BEGIN:VCALENDAR
VERSION:2.0
PRODID:-//Tanzsportclub Weiß-Gold - ECPv6.15.20//NONSGML v1.0//EN
CALSCALE:GREGORIAN
METHOD:PUBLISH
X-WR-CALNAME:Tanzsportclub Weiß-Gold
X-ORIGINAL-URL:https://tsc-weiss-gold.de
X-WR-CALDESC:Veranstaltungen für Tanzsportclub Weiß-Gold
REFRESH-INTERVAL;VALUE=DURATION:PT1H
X-Robots-Tag:noindex
X-PUBLISHED-TTL:PT1H
BEGIN:VTIMEZONE
TZID:Europe/Berlin
BEGIN:DAYLIGHT
TZOFFSETFROM:+0100
TZOFFSETTO:+0200
TZNAME:CEST
DTSTART:20240331T010000
END:DAYLIGHT
BEGIN:STANDARD
TZOFFSETFROM:+0200
TZOFFSETTO:+0100
TZNAME:CET
DTSTART:20241027T010000
END:STANDARD
BEGIN:DAYLIGHT
TZOFFSETFROM:+0100
TZOFFSETTO:+0200
TZNAME:CEST
DTSTART:20250330T010000
END:DAYLIGHT
BEGIN:STANDARD
TZOFFSETFROM:+0200
TZOFFSETTO:+0100
TZNAME:CET
DTSTART:20251026T010000
END:STANDARD
BEGIN:DAYLIGHT
TZOFFSETFROM:+0100
TZOFFSETTO:+0200
TZNAME:CEST
DTSTART:20260329T010000
END:DAYLIGHT
BEGIN:STANDARD
TZOFFSETFROM:+0200
TZOFFSETTO:+0100
TZNAME:CET
DTSTART:20261025T010000
END:STANDARD
END:VTIMEZONE
BEGIN:VEVENT
DTSTART;TZID=Europe/Berlin:20251107T180000
DTEND;TZID=Europe/Berlin:20251107T214500
DTSTAMP:20260421T232300
CREATED:20250606T222757Z
LAST-MODIFIED:20250606T222757Z
UID:6377-1762538400-1762551900@tsc-weiss-gold.de
SUMMARY:Tanztraining mit Claudia
DESCRIPTION:Große Halle:\nGruppe B: 18:00 – 19:15\nGruppe H: 19:15 – 20:30\nGruppe S: 20:30 – 21:45\nLeitung: Claudia Kleineheismann \nKleine Halle:\nGruppe A: 19:15 – 20:30\nLeitung: Siegfried & Inge Mayer-Hermann
URL:https://tsc-weiss-gold.de/event/tanztraining-mit-claudia-5/
LOCATION:Schulsporthalle Realschule Plus\, Neumayerstrasse 27\, Weisenheim am Berg\, 67273
END:VEVENT
BEGIN:VEVENT
DTSTART;TZID=Europe/Berlin:20251108T150000
DTEND;TZID=Europe/Berlin:20251108T170000
DTSTAMP:20260421T232300
CREATED:20250605T132619Z
LAST-MODIFIED:20250605T132619Z
UID:6354-1762614000-1762621200@tsc-weiss-gold.de
SUMMARY:Freies Tanztraining
DESCRIPTION:Gemeinsames Tanzen aller Gruppen ohne Trainer.
URL:https://tsc-weiss-gold.de/event/freies-tanztraining-66/
LOCATION:Schulsporthalle Realschule Plus\, Neumayerstrasse 27\, Weisenheim am Berg\, 67273
END:VEVENT
BEGIN:VEVENT
DTSTART;TZID=Europe/Berlin:20251114T180000
DTEND;TZID=Europe/Berlin:20251114T214500
DTSTAMP:20260421T232300
CREATED:20250605T131843Z
LAST-MODIFIED:20250605T131843Z
UID:6340-1763143200-1763156700@tsc-weiss-gold.de
SUMMARY:Tanztraining
DESCRIPTION:Große Halle:\nGruppe B: 18:00 – 19:15\nGruppe H: 19:15 – 20:30\nGruppe S: 20:30 – 21:45\nLeitung: Martin Stiewing \nKleine Halle:\nGruppe A: 19:15 – 20:30\nLeitung: Siegfried & Inge Mayer-Hermann
URL:https://tsc-weiss-gold.de/event/tanztraining-192/
LOCATION:Schulsporthalle Realschule Plus\, Neumayerstrasse 27\, Weisenheim am Berg\, 67273
END:VEVENT
BEGIN:VEVENT
DTSTART;TZID=Europe/Berlin:20251115T150000
DTEND;TZID=Europe/Berlin:20251115T170000
DTSTAMP:20260421T232300
CREATED:20250605T134350Z
LAST-MODIFIED:20251114T121502Z
UID:6367-1763218800-1763226000@tsc-weiss-gold.de
SUMMARY:Workshop Jive abgesagt !! Stattdessen freies Training
DESCRIPTION:Das freie Training findet statt für alle TSC-Mitglieder in der großen Schulsporthalle in Weisenheim am Berg von 15:00 – 17:00 Uhr.
URL:https://tsc-weiss-gold.de/event/workshop-jive-mit-sarah/
LOCATION:Schulsporthalle Realschule Plus\, Neumayerstrasse 27\, Weisenheim am Berg\, 67273
END:VEVENT
BEGIN:VEVENT
DTSTART;TZID=Europe/Berlin:20251121T180000
DTEND;TZID=Europe/Berlin:20251121T214500
DTSTAMP:20260421T232300
CREATED:20250605T131914Z
LAST-MODIFIED:20250605T131914Z
UID:6342-1763748000-1763761500@tsc-weiss-gold.de
SUMMARY:Tanztraining
DESCRIPTION:Große Halle:\nGruppe B: 18:00 – 19:15\nGruppe H: 19:15 – 20:30\nGruppe S: 20:30 – 21:45\nLeitung: Martin Stiewing \nKleine Halle:\nGruppe A: 19:15 – 20:30\nLeitung: Siegfried & Inge Mayer-Hermann
URL:https://tsc-weiss-gold.de/event/tanztraining-193/
LOCATION:Schulsporthalle Realschule Plus\, Neumayerstrasse 27\, Weisenheim am Berg\, 67273
END:VEVENT
BEGIN:VEVENT
DTSTART;TZID=Europe/Berlin:20251128T180000
DTEND;TZID=Europe/Berlin:20251128T214500
DTSTAMP:20260421T232300
CREATED:20250605T131943Z
LAST-MODIFIED:20250605T131943Z
UID:6344-1764352800-1764366300@tsc-weiss-gold.de
SUMMARY:Tanztraining
DESCRIPTION:Große Halle:\nGruppe B: 18:00 – 19:15\nGruppe H: 19:15 – 20:30\nGruppe S: 20:30 – 21:45\nLeitung: Martin Stiewing \nKleine Halle:\nGruppe A: 19:15 – 20:30\nLeitung: Siegfried & Inge Mayer-Hermann
URL:https://tsc-weiss-gold.de/event/tanztraining-194/
LOCATION:Schulsporthalle Realschule Plus\, Neumayerstrasse 27\, Weisenheim am Berg\, 67273
END:VEVENT
BEGIN:VEVENT
DTSTART;TZID=Europe/Berlin:20251129T150000
DTEND;TZID=Europe/Berlin:20251129T170000
DTSTAMP:20260421T232300
CREATED:20250605T132651Z
LAST-MODIFIED:20250611T152436Z
UID:6356-1764428400-1764435600@tsc-weiss-gold.de
SUMMARY:Freies Tanztraining
DESCRIPTION:Gemeinsames Tanzen aller Gruppen ohne Trainer.
URL:https://tsc-weiss-gold.de/event/freies-tanztraining-67/
LOCATION:Schulsporthalle Realschule Plus\, Neumayerstrasse 27\, Weisenheim am Berg\, 67273
END:VEVENT
END:VCALENDAR