BEGIN:VCALENDAR
VERSION:2.0
PRODID:-//Tanzsportclub Weiß-Gold - ECPv6.15.20//NONSGML v1.0//EN
CALSCALE:GREGORIAN
METHOD:PUBLISH
X-WR-CALNAME:Tanzsportclub Weiß-Gold
X-ORIGINAL-URL:https://tsc-weiss-gold.de
X-WR-CALDESC:Veranstaltungen für Tanzsportclub Weiß-Gold
REFRESH-INTERVAL;VALUE=DURATION:PT1H
X-Robots-Tag:noindex
X-PUBLISHED-TTL:PT1H
BEGIN:VTIMEZONE
TZID:Europe/Berlin
BEGIN:DAYLIGHT
TZOFFSETFROM:+0100
TZOFFSETTO:+0200
TZNAME:CEST
DTSTART:20240331T010000
END:DAYLIGHT
BEGIN:STANDARD
TZOFFSETFROM:+0200
TZOFFSETTO:+0100
TZNAME:CET
DTSTART:20241027T010000
END:STANDARD
BEGIN:DAYLIGHT
TZOFFSETFROM:+0100
TZOFFSETTO:+0200
TZNAME:CEST
DTSTART:20250330T010000
END:DAYLIGHT
BEGIN:STANDARD
TZOFFSETFROM:+0200
TZOFFSETTO:+0100
TZNAME:CET
DTSTART:20251026T010000
END:STANDARD
BEGIN:DAYLIGHT
TZOFFSETFROM:+0100
TZOFFSETTO:+0200
TZNAME:CEST
DTSTART:20260329T010000
END:DAYLIGHT
BEGIN:STANDARD
TZOFFSETFROM:+0200
TZOFFSETTO:+0100
TZNAME:CET
DTSTART:20261025T010000
END:STANDARD
END:VTIMEZONE
BEGIN:VEVENT
DTSTART;TZID=Europe/Berlin:20251004T150000
DTEND;TZID=Europe/Berlin:20251004T170000
DTSTAMP:20260422T010706
CREATED:20250605T132542Z
LAST-MODIFIED:20250605T132542Z
UID:6352-1759590000-1759597200@tsc-weiss-gold.de
SUMMARY:Freies Tanztraining
DESCRIPTION:Gemeinsames Tanzen aller Gruppen ohne Trainer.
URL:https://tsc-weiss-gold.de/event/freies-tanztraining-65/
LOCATION:Schulsporthalle Realschule Plus\, Neumayerstrasse 27\, Weisenheim am Berg\, 67273
END:VEVENT
BEGIN:VEVENT
DTSTART;TZID=Europe/Berlin:20251010T180000
DTEND;TZID=Europe/Berlin:20251010T214500
DTSTAMP:20260422T010706
CREATED:20250605T131602Z
LAST-MODIFIED:20250605T131602Z
UID:6332-1760119200-1760132700@tsc-weiss-gold.de
SUMMARY:Tanztraining
DESCRIPTION:Große Halle:\nGruppe B: 18:00 – 19:15\nGruppe H: 19:15 – 20:30\nGruppe S: 20:30 – 21:45\nLeitung: Martin Stiewing \nKleine Halle:\nGruppe A: 19:15 – 20:30\nLeitung: Siegfried & Inge Mayer-Hermann
URL:https://tsc-weiss-gold.de/event/tanztraining-188/
LOCATION:Schulsporthalle Realschule Plus\, Neumayerstrasse 27\, Weisenheim am Berg\, 67273
END:VEVENT
BEGIN:VEVENT
DTSTART;TZID=Europe/Berlin:20251011T150000
DTEND;TZID=Europe/Berlin:20251011T170000
DTSTAMP:20260422T010706
CREATED:20250605T133820Z
LAST-MODIFIED:20250605T134115Z
UID:6364-1760194800-1760202000@tsc-weiss-gold.de
SUMMARY:Workshop Tango mit Martin und Michaela
DESCRIPTION:Leitung: Martin Stiewing
URL:https://tsc-weiss-gold.de/event/workshop-tango-mit-martin/
LOCATION:Schulsporthalle Realschule Plus\, Neumayerstrasse 27\, Weisenheim am Berg\, 67273
END:VEVENT
BEGIN:VEVENT
DTSTART;TZID=Europe/Berlin:20251017T183000
DTEND;TZID=Europe/Berlin:20251017T213000
DTSTAMP:20260422T010706
CREATED:20250907T103502Z
LAST-MODIFIED:20250907T104843Z
UID:6418-1760725800-1760736600@tsc-weiss-gold.de
SUMMARY:Tanztraining in Bobenheim am Berg
DESCRIPTION:Gruppen A+B: 18:30 – 20:00 Uhr\nGruppen H+S: 20:00 – 21:30 Uhr\nLeitung: Martin und Michaela\nOrt: Jahnstraße 2a\, 67273 Bobenheim am Berg
URL:https://tsc-weiss-gold.de/event/tanztraining-in-bobenheim-am-berg/
LOCATION:Bobenheim am Berg\, Jahnstraße 2a\, Bobenheim am Berg\, 67273
END:VEVENT
BEGIN:VEVENT
DTSTART;TZID=Europe/Berlin:20251024T180000
DTEND;TZID=Europe/Berlin:20251024T214500
DTSTAMP:20260422T010706
CREATED:20250605T131723Z
LAST-MODIFIED:20250605T131723Z
UID:6336-1761328800-1761342300@tsc-weiss-gold.de
SUMMARY:Tanztraining
DESCRIPTION:Große Halle:\nGruppe B: 18:00 – 19:15\nGruppe H: 19:15 – 20:30\nGruppe S: 20:30 – 21:45\nLeitung: Martin Stiewing \nKleine Halle:\nGruppe A: 19:15 – 20:30\nLeitung: Siegfried & Inge Mayer-Hermann
URL:https://tsc-weiss-gold.de/event/tanztraining-190/
LOCATION:Schulsporthalle Realschule Plus\, Neumayerstrasse 27\, Weisenheim am Berg\, 67273
END:VEVENT
BEGIN:VEVENT
DTSTART;TZID=Europe/Berlin:20251031T180000
DTEND;TZID=Europe/Berlin:20251031T214500
DTSTAMP:20260422T010706
CREATED:20250605T131752Z
LAST-MODIFIED:20250605T131752Z
UID:6338-1761933600-1761947100@tsc-weiss-gold.de
SUMMARY:Tanztraining
DESCRIPTION:Große Halle:\nGruppe B: 18:00 – 19:15\nGruppe H: 19:15 – 20:30\nGruppe S: 20:30 – 21:45\nLeitung: Martin Stiewing \nKleine Halle:\nGruppe A: 19:15 – 20:30\nLeitung: Siegfried & Inge Mayer-Hermann
URL:https://tsc-weiss-gold.de/event/tanztraining-191/
LOCATION:Schulsporthalle Realschule Plus\, Neumayerstrasse 27\, Weisenheim am Berg\, 67273
END:VEVENT
END:VCALENDAR