BEGIN:VCALENDAR
VERSION:2.0
PRODID:-//Tanzsportclub Weiß-Gold - ECPv6.15.20//NONSGML v1.0//EN
CALSCALE:GREGORIAN
METHOD:PUBLISH
X-ORIGINAL-URL:https://tsc-weiss-gold.de
X-WR-CALDESC:Veranstaltungen für Tanzsportclub Weiß-Gold
REFRESH-INTERVAL;VALUE=DURATION:PT1H
X-Robots-Tag:noindex
X-PUBLISHED-TTL:PT1H
BEGIN:VTIMEZONE
TZID:Europe/Berlin
BEGIN:DAYLIGHT
TZOFFSETFROM:+0100
TZOFFSETTO:+0200
TZNAME:CEST
DTSTART:20220327T010000
END:DAYLIGHT
BEGIN:STANDARD
TZOFFSETFROM:+0200
TZOFFSETTO:+0100
TZNAME:CET
DTSTART:20221030T010000
END:STANDARD
BEGIN:DAYLIGHT
TZOFFSETFROM:+0100
TZOFFSETTO:+0200
TZNAME:CEST
DTSTART:20230326T010000
END:DAYLIGHT
BEGIN:STANDARD
TZOFFSETFROM:+0200
TZOFFSETTO:+0100
TZNAME:CET
DTSTART:20231029T010000
END:STANDARD
BEGIN:DAYLIGHT
TZOFFSETFROM:+0100
TZOFFSETTO:+0200
TZNAME:CEST
DTSTART:20240331T010000
END:DAYLIGHT
BEGIN:STANDARD
TZOFFSETFROM:+0200
TZOFFSETTO:+0100
TZNAME:CET
DTSTART:20241027T010000
END:STANDARD
END:VTIMEZONE
BEGIN:VEVENT
DTSTART;TZID=Europe/Berlin:20231006T180000
DTEND;TZID=Europe/Berlin:20231006T214500
DTSTAMP:20260421T132852
CREATED:20230419T123031Z
LAST-MODIFIED:20230715T085442Z
UID:4238-1696615200-1696628700@tsc-weiss-gold.de
SUMMARY:Tanztraining
DESCRIPTION:Große Halle:\nLeitung: Martin Stiewing\nGruppe B:  18:00 – 19:15\nGruppe H:  19:15 – 20:30\nGruppe S:  20:30 – 21:45 \nKleine Halle:\nLeitung: Siegfried & Inge Mayer-Hermann\nGruppe A:  19:15 – 20:30
URL:https://tsc-weiss-gold.de/event/tanztraining-125/
LOCATION:Schulsporthalle Realschule Plus\, Neumayerstrasse 27\, Weisenheim am Berg\, 67273
END:VEVENT
BEGIN:VEVENT
DTSTART;TZID=Europe/Berlin:20231007T150000
DTEND;TZID=Europe/Berlin:20231007T163000
DTSTAMP:20260421T132852
CREATED:20230321T123455Z
LAST-MODIFIED:20230720T162517Z
UID:4139-1696690800-1696696200@tsc-weiss-gold.de
SUMMARY:Workshop Wiener Walzer (1)
DESCRIPTION:Leitung: Martin Stiewing
URL:https://tsc-weiss-gold.de/event/freies-tanztraining-39/
LOCATION:Schulsporthalle Realschule Plus\, Neumayerstrasse 27\, Weisenheim am Berg\, 67273
END:VEVENT
BEGIN:VEVENT
DTSTART;TZID=Europe/Berlin:20231013T180000
DTEND;TZID=Europe/Berlin:20231013T214500
DTSTAMP:20260421T132852
CREATED:20230419T123116Z
LAST-MODIFIED:20230715T085509Z
UID:4240-1697220000-1697233500@tsc-weiss-gold.de
SUMMARY:Tanztraining
DESCRIPTION:Große Halle:\nLeitung: Martin Stiewing\nGruppe B:  18:00 – 19:15\nGruppe H:  19:15 – 20:30\nGruppe S:  20:30 – 21:45 \nKleine Halle:\nLeitung: Siegfried & Inge Mayer-Hermann\nGruppe A:  19:15 – 20:30
URL:https://tsc-weiss-gold.de/event/tanztraining-126/
LOCATION:Schulsporthalle Realschule Plus\, Neumayerstrasse 27\, Weisenheim am Berg\, 67273
END:VEVENT
BEGIN:VEVENT
DTSTART;TZID=Europe/Berlin:20231014T150000
DTEND;TZID=Europe/Berlin:20231014T163000
DTSTAMP:20260421T132852
CREATED:20230419T121202Z
LAST-MODIFIED:20230419T121202Z
UID:4223-1697295600-1697301000@tsc-weiss-gold.de
SUMMARY:Workshop Wiener Walzer (2)
DESCRIPTION:Leitung: Martin Stiewing
URL:https://tsc-weiss-gold.de/event/workshop-wiener-walzer-2/
LOCATION:Schulsporthalle Realschule Plus\, Neumayerstrasse 27\, Weisenheim am Berg\, 67273
END:VEVENT
BEGIN:VEVENT
DTSTART;TZID=Europe/Berlin:20231020T180000
DTEND;TZID=Europe/Berlin:20231020T214500
DTSTAMP:20260421T132852
CREATED:20230419T123200Z
LAST-MODIFIED:20230715T085554Z
UID:4242-1697824800-1697838300@tsc-weiss-gold.de
SUMMARY:Tanztraining
DESCRIPTION:Große Halle:\nLeitung: Martin Stiewing\nGruppe B:  18:00 – 19:15\nGruppe H:  19:15 – 20:30\nGruppe S:  20:30 – 21:45 \nKleine Halle:\nLeitung: Siegfried & Inge Mayer-Hermann\nGruppe A:  19:15 – 20:30
URL:https://tsc-weiss-gold.de/event/tanztraining-127/
LOCATION:Schulsporthalle Realschule Plus\, Neumayerstrasse 27\, Weisenheim am Berg\, 67273
END:VEVENT
BEGIN:VEVENT
DTSTART;TZID=Europe/Berlin:20231027T180000
DTEND;TZID=Europe/Berlin:20231027T214500
DTSTAMP:20260421T132852
CREATED:20230419T123237Z
LAST-MODIFIED:20230715T085615Z
UID:4244-1698429600-1698443100@tsc-weiss-gold.de
SUMMARY:Tanztraining
DESCRIPTION:Große Halle:\nLeitung: Martin Stiewing\nGruppe B:  18:00 – 19:15\nGruppe H:  19:15 – 20:30\nGruppe S:  20:30 – 21:45 \nKleine Halle:\nLeitung: Siegfried & Inge Mayer-Hermann\nGruppe A:  19:15 – 20:30
URL:https://tsc-weiss-gold.de/event/tanztraining-128/
LOCATION:Schulsporthalle Realschule Plus\, Neumayerstrasse 27\, Weisenheim am Berg\, 67273
END:VEVENT
END:VCALENDAR