BEGIN:VCALENDAR
VERSION:2.0
PRODID:-//Tanzsportclub Weiß-Gold - ECPv6.15.20//NONSGML v1.0//EN
CALSCALE:GREGORIAN
METHOD:PUBLISH
X-ORIGINAL-URL:https://tsc-weiss-gold.de
X-WR-CALDESC:Veranstaltungen für Tanzsportclub Weiß-Gold
REFRESH-INTERVAL;VALUE=DURATION:PT1H
X-Robots-Tag:noindex
X-PUBLISHED-TTL:PT1H
BEGIN:VTIMEZONE
TZID:Europe/Berlin
BEGIN:DAYLIGHT
TZOFFSETFROM:+0100
TZOFFSETTO:+0200
TZNAME:CEST
DTSTART:20220327T010000
END:DAYLIGHT
BEGIN:STANDARD
TZOFFSETFROM:+0200
TZOFFSETTO:+0100
TZNAME:CET
DTSTART:20221030T010000
END:STANDARD
BEGIN:DAYLIGHT
TZOFFSETFROM:+0100
TZOFFSETTO:+0200
TZNAME:CEST
DTSTART:20230326T010000
END:DAYLIGHT
BEGIN:STANDARD
TZOFFSETFROM:+0200
TZOFFSETTO:+0100
TZNAME:CET
DTSTART:20231029T010000
END:STANDARD
BEGIN:DAYLIGHT
TZOFFSETFROM:+0100
TZOFFSETTO:+0200
TZNAME:CEST
DTSTART:20240331T010000
END:DAYLIGHT
BEGIN:STANDARD
TZOFFSETFROM:+0200
TZOFFSETTO:+0100
TZNAME:CET
DTSTART:20241027T010000
END:STANDARD
END:VTIMEZONE
BEGIN:VEVENT
DTSTART;TZID=Europe/Berlin:20230901T180000
DTEND;TZID=Europe/Berlin:20230901T214500
DTSTAMP:20260421T150247
CREATED:20230419T122631Z
LAST-MODIFIED:20230715T085200Z
UID:4228-1693591200-1693604700@tsc-weiss-gold.de
SUMMARY:Tanztraining
DESCRIPTION:Große Halle:\nLeitung: Martin Stiewing\nGruppe B:  18:00 – 19:15\nGruppe H:  19:15 – 20:30\nGruppe S:  20:30 – 21:45 \nKleine Halle:\nLeitung: Siegfried & Inge Mayer-Hermann\nGruppe A:  19:15 – 20:30
URL:https://tsc-weiss-gold.de/event/tanztraining-106/
LOCATION:Schulsporthalle Realschule Plus\, Neumayerstrasse 27\, Weisenheim am Berg\, 67273
END:VEVENT
BEGIN:VEVENT
DTSTART;TZID=Europe/Berlin:20230902T150000
DTEND;TZID=Europe/Berlin:20230902T170000
DTSTAMP:20260421T150247
CREATED:20230321T123412Z
LAST-MODIFIED:20230321T123412Z
UID:4137-1693666800-1693674000@tsc-weiss-gold.de
SUMMARY:Freies Tanztraining
DESCRIPTION:Gemeinsames Tanzen aller Gruppen ohne Trainer.
URL:https://tsc-weiss-gold.de/event/freies-tanztraining-38/
LOCATION:Schulsporthalle Realschule Plus\, Neumayerstrasse 27\, Weisenheim am Berg\, 67273
END:VEVENT
BEGIN:VEVENT
DTSTART;TZID=Europe/Berlin:20230908T180000
DTEND;TZID=Europe/Berlin:20230908T214500
DTSTAMP:20260421T150247
CREATED:20230419T122735Z
LAST-MODIFIED:20230715T085228Z
UID:4230-1694196000-1694209500@tsc-weiss-gold.de
SUMMARY:Tanztraining
DESCRIPTION:Große Halle:\nLeitung: Martin Stiewing\nGruppe B:  18:00 – 19:15\nGruppe H:  19:15 – 20:30\nGruppe S:  20:30 – 21:45 \nKleine Halle:\nLeitung: Siegfried & Inge Mayer-Hermann\nGruppe A:  19:15 – 20:30
URL:https://tsc-weiss-gold.de/event/tanztraining-121/
LOCATION:Schulsporthalle Realschule Plus\, Neumayerstrasse 27\, Weisenheim am Berg\, 67273
END:VEVENT
BEGIN:VEVENT
DTSTART;TZID=Europe/Berlin:20230915T180000
DTEND;TZID=Europe/Berlin:20230915T214500
DTSTAMP:20260421T150247
CREATED:20230419T122826Z
LAST-MODIFIED:20230911T183053Z
UID:4232-1694800800-1694814300@tsc-weiss-gold.de
SUMMARY:Tanztraining
DESCRIPTION:Große Halle:\nLeitung: Claudia Kleineheismann\nGruppen A und B   18:00 – 19:15 Uhr\nGruppe H  19:15 – 20:30 Uhr\nGruppe S  20:30 – 21:45 Uhr
URL:https://tsc-weiss-gold.de/event/tanztraining-122/
LOCATION:Schulsporthalle Realschule Plus\, Neumayerstrasse 27\, Weisenheim am Berg\, 67273
END:VEVENT
BEGIN:VEVENT
DTSTART;TZID=Europe/Berlin:20230922T180000
DTEND;TZID=Europe/Berlin:20230922T214500
DTSTAMP:20260421T150247
CREATED:20230419T122909Z
LAST-MODIFIED:20230911T182916Z
UID:4234-1695405600-1695419100@tsc-weiss-gold.de
SUMMARY:Tanztraining
DESCRIPTION:Kleine Halle:\nLeitung: Inge und Siggi Mayer-Hermann\nGruppe A  19:15 – 20:30 Uhr \nGroße Halle:\nLeitung: Claudia Kleineheismann\nGruppen A und B  18:00 – 19:15 Uhr\nGruppe H  19:15 – 20:30 Uhr\nGruppe S  20:30 – 21:45 Uhr
URL:https://tsc-weiss-gold.de/event/tanztraining-123/
LOCATION:Schulsporthalle Realschule Plus\, Neumayerstrasse 27\, Weisenheim am Berg\, 67273
END:VEVENT
BEGIN:VEVENT
DTSTART;TZID=Europe/Berlin:20230923T103000
DTEND;TZID=Europe/Berlin:20230923T133000
DTSTAMP:20260421T150247
CREATED:20230318T111814Z
LAST-MODIFIED:20230720T161949Z
UID:4123-1695465000-1695475800@tsc-weiss-gold.de
SUMMARY:Herbstwanderung
DESCRIPTION:Herbstwanderung „Rund um Leistadt“.\nTreffpunkt Parkplatz Berntal.\nAnschl. geselliges Beisammensein in den Winzerstuben Weick ab 14 Uhr.\nFamilienmitglieder\, Freunde und Bekannte sind herzlich mit eingeladen!\nAnmeldung bei Konrad Rometsch.\nTEL 06359-84356\nMail: konrad.rometsch@gmx.de
URL:https://tsc-weiss-gold.de/event/herbstwanderung-3/
END:VEVENT
BEGIN:VEVENT
DTSTART;TZID=Europe/Berlin:20230929T180000
DTEND;TZID=Europe/Berlin:20230929T214500
DTSTAMP:20260421T150247
CREATED:20230419T122948Z
LAST-MODIFIED:20230715T085406Z
UID:4236-1696010400-1696023900@tsc-weiss-gold.de
SUMMARY:Tanztraining
DESCRIPTION:Große Halle:\nLeitung: Martin Stiewing\nGruppe B:  18:00 – 19:15\nGruppe H:  19:15 – 20:30\nGruppe S:  20:30 – 21:45 \nKleine Halle:\nLeitung: Siegfried & Inge Mayer-Hermann\nGruppe A:  19:15 – 20:30
URL:https://tsc-weiss-gold.de/event/tanztraining-124/
LOCATION:Schulsporthalle Realschule Plus\, Neumayerstrasse 27\, Weisenheim am Berg\, 67273
END:VEVENT
END:VCALENDAR