BEGIN:VCALENDAR
VERSION:2.0
PRODID:-//Tanzsportclub Weiß-Gold - ECPv6.15.20//NONSGML v1.0//EN
CALSCALE:GREGORIAN
METHOD:PUBLISH
X-ORIGINAL-URL:https://tsc-weiss-gold.de
X-WR-CALDESC:Veranstaltungen für Tanzsportclub Weiß-Gold
REFRESH-INTERVAL;VALUE=DURATION:PT1H
X-Robots-Tag:noindex
X-PUBLISHED-TTL:PT1H
BEGIN:VTIMEZONE
TZID:Europe/Berlin
BEGIN:DAYLIGHT
TZOFFSETFROM:+0100
TZOFFSETTO:+0200
TZNAME:CEST
DTSTART:20220327T010000
END:DAYLIGHT
BEGIN:STANDARD
TZOFFSETFROM:+0200
TZOFFSETTO:+0100
TZNAME:CET
DTSTART:20221030T010000
END:STANDARD
BEGIN:DAYLIGHT
TZOFFSETFROM:+0100
TZOFFSETTO:+0200
TZNAME:CEST
DTSTART:20230326T010000
END:DAYLIGHT
BEGIN:STANDARD
TZOFFSETFROM:+0200
TZOFFSETTO:+0100
TZNAME:CET
DTSTART:20231029T010000
END:STANDARD
BEGIN:DAYLIGHT
TZOFFSETFROM:+0100
TZOFFSETTO:+0200
TZNAME:CEST
DTSTART:20240331T010000
END:DAYLIGHT
BEGIN:STANDARD
TZOFFSETFROM:+0200
TZOFFSETTO:+0100
TZNAME:CET
DTSTART:20241027T010000
END:STANDARD
END:VTIMEZONE
BEGIN:VEVENT
DTSTART;TZID=Europe/Berlin:20230401T160000
DTEND;TZID=Europe/Berlin:20230401T173000
DTSTAMP:20260421T224913
CREATED:20221219T121034Z
LAST-MODIFIED:20221219T121034Z
UID:3926-1680364800-1680370200@tsc-weiss-gold.de
SUMMARY:Tanzmodul 4
DESCRIPTION:Leitung: Martin Stiewing\nEinführung interessierter neuer Paare in denTanzsport beim TSC.
URL:https://tsc-weiss-gold.de/event/tanzmodul-4/
LOCATION:Schulsporthalle Realschule Plus\, Neumayerstrasse 27\, Weisenheim am Berg\, 67273
END:VEVENT
BEGIN:VEVENT
DTSTART;TZID=Europe/Berlin:20230414T180000
DTEND;TZID=Europe/Berlin:20230414T214500
DTSTAMP:20260421T224913
CREATED:20221219T121653Z
LAST-MODIFIED:20221219T121653Z
UID:3934-1681495200-1681508700@tsc-weiss-gold.de
SUMMARY:Tanztraining
DESCRIPTION:Große Halle:\nLeitung: Martin Stiewing\nGruppe 0:  18:00 – 19:15\nGruppe 1:  19:15 – 20:30\nGruppe 2:  20:30 – 21:45 \nKleine Halle:\nLeitung: Siegfried & Inge Mayer-Hermann\nGruppe A:  19:15 – 20:30
URL:https://tsc-weiss-gold.de/event/tanztraining-107/
LOCATION:Schulsporthalle Realschule Plus\, Neumayerstrasse 27\, Weisenheim am Berg\, 67273
END:VEVENT
BEGIN:VEVENT
DTSTART;TZID=Europe/Berlin:20230415T153000
DTEND;TZID=Europe/Berlin:20230415T173000
DTSTAMP:20260421T224913
CREATED:20221219T121510Z
LAST-MODIFIED:20230331T210057Z
UID:3930-1681572600-1681579800@tsc-weiss-gold.de
SUMMARY:Freies Tanztraining mit Live-Musik
DESCRIPTION:Gemeinsames Tanzen aller Vereins-Gruppen ohne Trainer. Herzlich eingeladen sind auch die Teilnehmer des Schnupperkurses.\nUnser Vereinsmitglied Ralf Keller wird mit Gesang und Keyboard für Live-Tanzmusik sorgen.\nSicher wieder ein ganz besonderes Highlight\, das man sich nicht entgehen lassen sollte!
URL:https://tsc-weiss-gold.de/event/freies-tanztraining-34/
LOCATION:Schulsporthalle Realschule Plus\, Neumayerstrasse 27\, Weisenheim am Berg\, 67273
END:VEVENT
BEGIN:VEVENT
DTSTART;TZID=Europe/Berlin:20230421T180000
DTEND;TZID=Europe/Berlin:20230421T214500
DTSTAMP:20260421T224913
CREATED:20221219T121746Z
LAST-MODIFIED:20221219T121746Z
UID:3936-1682100000-1682113500@tsc-weiss-gold.de
SUMMARY:Tanztraining
DESCRIPTION:Große Halle:\nLeitung: Martin Stiewing\nGruppe 0:  18:00 – 19:15\nGruppe 1:  19:15 – 20:30\nGruppe 2:  20:30 – 21:45 \nKleine Halle:\nLeitung: Siegfried & Inge Mayer-Hermann\nGruppe A:  19:15 – 20:30
URL:https://tsc-weiss-gold.de/event/tanztraining-108/
LOCATION:Schulsporthalle Realschule Plus\, Neumayerstrasse 27\, Weisenheim am Berg\, 67273
END:VEVENT
BEGIN:VEVENT
DTSTART;TZID=Europe/Berlin:20230428T180000
DTEND;TZID=Europe/Berlin:20230428T214500
DTSTAMP:20260421T224913
CREATED:20221219T121827Z
LAST-MODIFIED:20221219T121827Z
UID:3938-1682704800-1682718300@tsc-weiss-gold.de
SUMMARY:Tanztraining
DESCRIPTION:Große Halle:\nLeitung: Martin Stiewing\nGruppe 0:  18:00 – 19:15\nGruppe 1:  19:15 – 20:30\nGruppe 2:  20:30 – 21:45 \nKleine Halle:\nLeitung: Siegfried & Inge Mayer-Hermann\nGruppe A:  19:15 – 20:30
URL:https://tsc-weiss-gold.de/event/tanztraining-109/
LOCATION:Schulsporthalle Realschule Plus\, Neumayerstrasse 27\, Weisenheim am Berg\, 67273
END:VEVENT
END:VCALENDAR