BEGIN:VCALENDAR
VERSION:2.0
PRODID:-//Tanzsportclub Weiß-Gold - ECPv6.15.20//NONSGML v1.0//EN
CALSCALE:GREGORIAN
METHOD:PUBLISH
X-WR-CALNAME:Tanzsportclub Weiß-Gold
X-ORIGINAL-URL:https://tsc-weiss-gold.de
X-WR-CALDESC:Veranstaltungen für Tanzsportclub Weiß-Gold
REFRESH-INTERVAL;VALUE=DURATION:PT1H
X-Robots-Tag:noindex
X-PUBLISHED-TTL:PT1H
BEGIN:VTIMEZONE
TZID:Europe/Berlin
BEGIN:DAYLIGHT
TZOFFSETFROM:+0100
TZOFFSETTO:+0200
TZNAME:CEST
DTSTART:20210328T010000
END:DAYLIGHT
BEGIN:STANDARD
TZOFFSETFROM:+0200
TZOFFSETTO:+0100
TZNAME:CET
DTSTART:20211031T010000
END:STANDARD
BEGIN:DAYLIGHT
TZOFFSETFROM:+0100
TZOFFSETTO:+0200
TZNAME:CEST
DTSTART:20220327T010000
END:DAYLIGHT
BEGIN:STANDARD
TZOFFSETFROM:+0200
TZOFFSETTO:+0100
TZNAME:CET
DTSTART:20221030T010000
END:STANDARD
BEGIN:DAYLIGHT
TZOFFSETFROM:+0100
TZOFFSETTO:+0200
TZNAME:CEST
DTSTART:20230326T010000
END:DAYLIGHT
BEGIN:STANDARD
TZOFFSETFROM:+0200
TZOFFSETTO:+0100
TZNAME:CET
DTSTART:20231029T010000
END:STANDARD
END:VTIMEZONE
BEGIN:VEVENT
DTSTART;TZID=Europe/Berlin:20221001T150000
DTEND;TZID=Europe/Berlin:20221001T170000
DTSTAMP:20260422T085601
CREATED:20221108T184732Z
LAST-MODIFIED:20221108T184732Z
UID:3855-1664636400-1664643600@tsc-weiss-gold.de
SUMMARY:Freies Tanzen
DESCRIPTION:Große Halle:\n15:00 – 17:00\nTanzen aller Gruppen ohne Trainer
URL:https://tsc-weiss-gold.de/event/freies-tanzen/
LOCATION:Schulsporthalle Realschule Plus\, Neumayerstrasse 27\, Weisenheim am Berg\, 67273
END:VEVENT
BEGIN:VEVENT
DTSTART;TZID=Europe/Berlin:20221007T180000
DTEND;TZID=Europe/Berlin:20221007T214500
DTSTAMP:20260422T085601
CREATED:20220822T084110Z
LAST-MODIFIED:20220822T090531Z
UID:3669-1665165600-1665179100@tsc-weiss-gold.de
SUMMARY:Tanztraining
DESCRIPTION:Große Halle:\nLeitung: Michaela Pöllath\nGruppe 1:  18:00 – 19:15\nGruppe 0:  19:15 – 20:30\nGruppe 2:  20:30 – 21:45 \nKleine Halle:\nLeitung: Siegfried & Inge Mayer-Hermann\nGruppe A:  19:15 – 20:30
URL:https://tsc-weiss-gold.de/event/tanztraining-84/
LOCATION:Schulsporthalle Realschule Plus\, Neumayerstrasse 27\, Weisenheim am Berg\, 67273
END:VEVENT
BEGIN:VEVENT
DTSTART;TZID=Europe/Berlin:20221014T180000
DTEND;TZID=Europe/Berlin:20221014T214500
DTSTAMP:20260422T085601
CREATED:20220822T084443Z
LAST-MODIFIED:20220822T090655Z
UID:3673-1665770400-1665783900@tsc-weiss-gold.de
SUMMARY:Tanztraining
DESCRIPTION:Große Halle:\nLeitung: Martin Stiewing\nGruppe 1:  18:00 – 19:15\nGruppe 0:  19:15 – 20:30\nGruppe 2:  20:30 – 21:45 \nKleine Halle:\nLeitung: Siegfried & Inge Mayer-Hermann\nGruppe A:  19:15 – 20:30
URL:https://tsc-weiss-gold.de/event/tanztraining-86/
LOCATION:Schulsporthalle Realschule Plus\, Neumayerstrasse 27\, Weisenheim am Berg\, 67273
END:VEVENT
BEGIN:VEVENT
DTSTART;TZID=Europe/Berlin:20221015T180000
DTEND;TZID=Europe/Berlin:20221015T233000
DTSTAMP:20260422T085601
CREATED:20220601T121952Z
LAST-MODIFIED:20220601T121952Z
UID:3632-1665856800-1665876600@tsc-weiss-gold.de
SUMMARY:Jahresfeier
DESCRIPTION:
URL:https://tsc-weiss-gold.de/event/jahresfeier/
LOCATION:Winzergenossenschaft Luginsland\, Weinstraße 2\, Wachenheim\, 67157\, Deutschland
END:VEVENT
BEGIN:VEVENT
DTSTART;TZID=Europe/Berlin:20221021T180000
DTEND;TZID=Europe/Berlin:20221021T214500
DTSTAMP:20260422T085601
CREATED:20220822T084657Z
LAST-MODIFIED:20220822T090726Z
UID:3675-1666375200-1666388700@tsc-weiss-gold.de
SUMMARY:Tanztraining
DESCRIPTION:Große Halle:\nLeitung: Martin Stiewing\nGruppe 1:  18:00 – 19:15\nGruppe 0:  19:15 – 20:30\nGruppe 2:  20:30 – 21:45 \nKleine Halle:\nLeitung: Siegfried & Inge Mayer-Hermann\nGruppe A:  19:15 – 20:30
URL:https://tsc-weiss-gold.de/event/tanztraining-87/
LOCATION:Schulsporthalle Realschule Plus\, Neumayerstrasse 27\, Weisenheim am Berg\, 67273
END:VEVENT
BEGIN:VEVENT
DTSTART;TZID=Europe/Berlin:20221028T180000
DTEND;TZID=Europe/Berlin:20221028T214500
DTSTAMP:20260422T085601
CREATED:20220822T084923Z
LAST-MODIFIED:20220822T090755Z
UID:3679-1666980000-1666993500@tsc-weiss-gold.de
SUMMARY:Tanztraining
DESCRIPTION:Große Halle:\nLeitung: Martin Stiewing\nGruppe 1:  18:00 – 19:15\nGruppe 0:  19:15 – 20:30\nGruppe 2:  20:30 – 21:45 \nKleine Halle:\nLeitung: Siegfried & Inge Mayer-Hermann\nGruppe A:  19:15 – 20:30
URL:https://tsc-weiss-gold.de/event/tanztraining-89/
LOCATION:Schulsporthalle Realschule Plus\, Neumayerstrasse 27\, Weisenheim am Berg\, 67273
END:VEVENT
END:VCALENDAR