BEGIN:VCALENDAR
VERSION:2.0
PRODID:-//Tanzsportclub Weiß-Gold - ECPv6.15.20//NONSGML v1.0//EN
CALSCALE:GREGORIAN
METHOD:PUBLISH
X-ORIGINAL-URL:https://tsc-weiss-gold.de
X-WR-CALDESC:Veranstaltungen für Tanzsportclub Weiß-Gold
REFRESH-INTERVAL;VALUE=DURATION:PT1H
X-Robots-Tag:noindex
X-PUBLISHED-TTL:PT1H
BEGIN:VTIMEZONE
TZID:Europe/Berlin
BEGIN:DAYLIGHT
TZOFFSETFROM:+0100
TZOFFSETTO:+0200
TZNAME:CEST
DTSTART:20210328T010000
END:DAYLIGHT
BEGIN:STANDARD
TZOFFSETFROM:+0200
TZOFFSETTO:+0100
TZNAME:CET
DTSTART:20211031T010000
END:STANDARD
BEGIN:DAYLIGHT
TZOFFSETFROM:+0100
TZOFFSETTO:+0200
TZNAME:CEST
DTSTART:20220327T010000
END:DAYLIGHT
BEGIN:STANDARD
TZOFFSETFROM:+0200
TZOFFSETTO:+0100
TZNAME:CET
DTSTART:20221030T010000
END:STANDARD
BEGIN:DAYLIGHT
TZOFFSETFROM:+0100
TZOFFSETTO:+0200
TZNAME:CEST
DTSTART:20230326T010000
END:DAYLIGHT
BEGIN:STANDARD
TZOFFSETFROM:+0200
TZOFFSETTO:+0100
TZNAME:CET
DTSTART:20231029T010000
END:STANDARD
END:VTIMEZONE
BEGIN:VEVENT
DTSTART;TZID=Europe/Berlin:20220603T180000
DTEND;TZID=Europe/Berlin:20220603T214500
DTSTAMP:20260422T153643
CREATED:20220525T112113Z
LAST-MODIFIED:20220525T115217Z
UID:3574-1654279200-1654292700@tsc-weiss-gold.de
SUMMARY:Tanztraining
DESCRIPTION:Große Halle:\nGruppe 1:   18:00 – 19:15 Uhr\nGruppe 0:   19:15 – 20:30 Uhr\nGruppe 2:   20:30 – 21:45 Uhr \nKleine Halle:\nnicht verfügbar wegen Fenstertausch
URL:https://tsc-weiss-gold.de/event/tanztraining-70/
LOCATION:Schulsporthalle Realschule Plus\, Neumayerstrasse 27\, Weisenheim am Berg\, 67273
END:VEVENT
BEGIN:VEVENT
DTSTART;TZID=Europe/Berlin:20220604T150000
DTEND;TZID=Europe/Berlin:20220604T170000
DTSTAMP:20260422T153643
CREATED:20220104T193344Z
LAST-MODIFIED:20220104T193344Z
UID:3097-1654354800-1654362000@tsc-weiss-gold.de
SUMMARY:Freies Tanztraining
DESCRIPTION:
URL:https://tsc-weiss-gold.de/event/freies-tanztraining-27/
LOCATION:Schulsporthalle Realschule Plus\, Neumayerstrasse 27\, Weisenheim am Berg\, 67273
END:VEVENT
BEGIN:VEVENT
DTSTART;TZID=Europe/Berlin:20220610T180000
DTEND;TZID=Europe/Berlin:20220610T214500
DTSTAMP:20260422T153643
CREATED:20220525T112534Z
LAST-MODIFIED:20220525T115321Z
UID:3578-1654884000-1654897500@tsc-weiss-gold.de
SUMMARY:Tanztraining
DESCRIPTION:Große Halle:\nGruppe 1:   18:00 – 19:15 Uhr\nGruppe 0:   19:15 – 20:30 Uhr\nGruppe 2:   20:30 – 21:45 Uhr \nKleine Halle:\nGruppe A:   20:15 – 21:30 Uhr Tainer:  Christin Baumann
URL:https://tsc-weiss-gold.de/event/tanztraining-71/
LOCATION:Schulsporthalle Realschule Plus\, Neumayerstrasse 27\, Weisenheim am Berg\, 67273
END:VEVENT
BEGIN:VEVENT
DTSTART;TZID=Europe/Berlin:20220617T180000
DTEND;TZID=Europe/Berlin:20220617T214500
DTSTAMP:20260422T153643
CREATED:20220525T112615Z
LAST-MODIFIED:20220525T115429Z
UID:3580-1655488800-1655502300@tsc-weiss-gold.de
SUMMARY:Tanztraining
DESCRIPTION:Große Halle:\nGruppe 1:   18:00 – 19:15 Uhr\nGruppe 0:   19:15 – 20:30 Uhr\nGruppe 2:   20:30 – 21:45 Uhr \nKleine Halle:\nGruppe A:   20:15 – 21:30 Uhr Trainer: Christin Baumann
URL:https://tsc-weiss-gold.de/event/tanztraining-72/
LOCATION:Schulsporthalle Realschule Plus\, Neumayerstrasse 27\, Weisenheim am Berg\, 67273
END:VEVENT
BEGIN:VEVENT
DTSTART;TZID=Europe/Berlin:20220624T180000
DTEND;TZID=Europe/Berlin:20220624T214500
DTSTAMP:20260422T153643
CREATED:20220525T112654Z
LAST-MODIFIED:20220525T115448Z
UID:3582-1656093600-1656107100@tsc-weiss-gold.de
SUMMARY:Tanztraining
DESCRIPTION:Große Halle:\nGruppe 1:   18:00 – 19:15 Uhr\nGruppe 0:   19:15 – 20:30 Uhr\nGruppe 2:   20:30 – 21:45 Uhr \nKleine Halle:\nGruppe A:   20:15 – 21:30 Uhr Trainer: Christin Baumann
URL:https://tsc-weiss-gold.de/event/tanztraining-73/
LOCATION:Schulsporthalle Realschule Plus\, Neumayerstrasse 27\, Weisenheim am Berg\, 67273
END:VEVENT
BEGIN:VEVENT
DTSTART;TZID=Europe/Berlin:20220625T180000
DTEND;TZID=Europe/Berlin:20220625T230000
DTSTAMP:20260422T153643
CREATED:20220429T140935Z
LAST-MODIFIED:20220429T140935Z
UID:3544-1656180000-1656198000@tsc-weiss-gold.de
SUMMARY:Sommerfest
DESCRIPTION:
URL:https://tsc-weiss-gold.de/event/sommerfest-2/
LOCATION:Bürgerhaus\, Hauptstrasse 72\, Weisenheim am Berg\, 67273
END:VEVENT
END:VCALENDAR