BEGIN:VCALENDAR
VERSION:2.0
PRODID:-//Tanzsportclub Weiß-Gold - ECPv6.15.20//NONSGML v1.0//EN
CALSCALE:GREGORIAN
METHOD:PUBLISH
X-ORIGINAL-URL:https://tsc-weiss-gold.de
X-WR-CALDESC:Veranstaltungen für Tanzsportclub Weiß-Gold
REFRESH-INTERVAL;VALUE=DURATION:PT1H
X-Robots-Tag:noindex
X-PUBLISHED-TTL:PT1H
BEGIN:VTIMEZONE
TZID:Europe/Berlin
BEGIN:DAYLIGHT
TZOFFSETFROM:+0100
TZOFFSETTO:+0200
TZNAME:CEST
DTSTART:20210328T010000
END:DAYLIGHT
BEGIN:STANDARD
TZOFFSETFROM:+0200
TZOFFSETTO:+0100
TZNAME:CET
DTSTART:20211031T010000
END:STANDARD
BEGIN:DAYLIGHT
TZOFFSETFROM:+0100
TZOFFSETTO:+0200
TZNAME:CEST
DTSTART:20220327T010000
END:DAYLIGHT
BEGIN:STANDARD
TZOFFSETFROM:+0200
TZOFFSETTO:+0100
TZNAME:CET
DTSTART:20221030T010000
END:STANDARD
BEGIN:DAYLIGHT
TZOFFSETFROM:+0100
TZOFFSETTO:+0200
TZNAME:CEST
DTSTART:20230326T010000
END:DAYLIGHT
BEGIN:STANDARD
TZOFFSETFROM:+0200
TZOFFSETTO:+0100
TZNAME:CET
DTSTART:20231029T010000
END:STANDARD
END:VTIMEZONE
BEGIN:VEVENT
DTSTART;TZID=Europe/Berlin:20220401T180000
DTEND;TZID=Europe/Berlin:20220401T213000
DTSTAMP:20260422T193656
CREATED:20220222T184004Z
LAST-MODIFIED:20220222T184004Z
UID:3404-1648836000-1648848600@tsc-weiss-gold.de
SUMMARY:Tanztraining
DESCRIPTION:Große Halle:\nGruppe 1:   18:00 – 19:00 Uhr\nGruppe 0:  19:15 – 20:15 Uhr\nGruppe 2:  20:30 – 21:30 Uhr\nKleine Halle:\nGruppe A:  20:15 – 21:30 Uhr
URL:https://tsc-weiss-gold.de/event/tanztraining-65/
LOCATION:Schulsporthalle Realschule Plus\, Neumayerstrasse 27\, Weisenheim am Berg\, 67273
END:VEVENT
BEGIN:VEVENT
DTSTART;TZID=Europe/Berlin:20220402T150000
DTEND;TZID=Europe/Berlin:20220402T170000
DTSTAMP:20260422T193656
CREATED:20220104T193226Z
LAST-MODIFIED:20220104T193226Z
UID:3093-1648911600-1648918800@tsc-weiss-gold.de
SUMMARY:Freies Tanztraining
DESCRIPTION:
URL:https://tsc-weiss-gold.de/event/freies-tanztraining-25/
LOCATION:Schulsporthalle Realschule Plus\, Neumayerstrasse 27\, Weisenheim am Berg\, 67273
END:VEVENT
BEGIN:VEVENT
DTSTART;TZID=Europe/Berlin:20220408T170000
DTEND;TZID=Europe/Berlin:20220410T120000
DTSTAMP:20260422T193656
CREATED:20211019T164437Z
LAST-MODIFIED:20220318T125241Z
UID:2852-1649437200-1649592000@tsc-weiss-gold.de
SUMMARY:Tanzsportseminar
DESCRIPTION:Anmeldung erforderlich bei unserer Sportwartin: \nAndrea Pommer \nE-Mail: achim.pommer@t-online.de \nTel.: 06353-1611 \nFreitag\nAnreise zum  Abendessen (17:45 – 19:00 Uhr) – wenn gebucht..\n19:30 – 21:00 Martin und Michaela\nSamstag\n09:30 – 11:30 Claudia Kleineheismann und Martin\n15:00 – 17:00 Martin und Michaela\nSonntag\n09:30 – 11:30 Inge und Siggi\n \nFür die „Fleissigen“ steht die große Halle auch noch nach dem Abendessen für ein freies Training zur Verfügung
URL:https://tsc-weiss-gold.de/event/tanzsportseminar/
LOCATION:Sportschule Edenkoben\, Villastraße 63\, Edenkoben\, 67480
END:VEVENT
BEGIN:VEVENT
DTSTART;TZID=Europe/Berlin:20220422T190000
DTEND;TZID=Europe/Berlin:20220422T210000
DTSTAMP:20260422T193656
CREATED:20220402T092834Z
LAST-MODIFIED:20220402T093803Z
UID:3457-1650654000-1650661200@tsc-weiss-gold.de
SUMMARY:Freies Tanztraining Gruppen 0\,1\,2
DESCRIPTION:Wegen Abwesenheit von Martin findet für die Gruppen 0\, 1 und 2 ein betreutes freies Tanztraining statt.
URL:https://tsc-weiss-gold.de/event/freies-tanztraining-28/
LOCATION:Schulsporthalle Realschule Plus\, Neumayerstrasse 27\, Weisenheim am Berg\, 67273
END:VEVENT
BEGIN:VEVENT
DTSTART;TZID=Europe/Berlin:20220422T201500
DTEND;TZID=Europe/Berlin:20220422T213000
DTSTAMP:20260422T193656
CREATED:20220402T093004Z
LAST-MODIFIED:20220402T093004Z
UID:3459-1650658500-1650663000@tsc-weiss-gold.de
SUMMARY:Tanztraining Gruppe A
DESCRIPTION:Leitung: Christin Baumann
URL:https://tsc-weiss-gold.de/event/tanztraining-gruppe-a-5/
LOCATION:Schulsporthalle Realschule Plus\, Neumayerstrasse 27\, Weisenheim am Berg\, 67273
END:VEVENT
BEGIN:VEVENT
DTSTART;TZID=Europe/Berlin:20220429T180000
DTEND;TZID=Europe/Berlin:20220429T213000
DTSTAMP:20260422T193656
CREATED:20220402T093458Z
LAST-MODIFIED:20220402T093556Z
UID:3461-1651255200-1651267800@tsc-weiss-gold.de
SUMMARY:Tanztraining
DESCRIPTION:Große Halle:\nGruppe 1:   18:00 – 19:00 Uhr\nGruppe 0:  19:15 – 20:15 Uhr\nGruppe 2:  20:30 – 21:30 Uhr\nKleine Halle:\nGruppe A:  20:15 – 21:30 Uhr
URL:https://tsc-weiss-gold.de/event/tanztraining-66/
LOCATION:Schulsporthalle Realschule Plus\, Neumayerstrasse 27\, Weisenheim am Berg\, 67273
END:VEVENT
END:VCALENDAR