BEGIN:VCALENDAR
VERSION:2.0
PRODID:-//Tanzsportclub Weiß-Gold - ECPv6.15.20//NONSGML v1.0//EN
CALSCALE:GREGORIAN
METHOD:PUBLISH
X-ORIGINAL-URL:https://tsc-weiss-gold.de
X-WR-CALDESC:Veranstaltungen für Tanzsportclub Weiß-Gold
REFRESH-INTERVAL;VALUE=DURATION:PT1H
X-Robots-Tag:noindex
X-PUBLISHED-TTL:PT1H
BEGIN:VTIMEZONE
TZID:Europe/Berlin
BEGIN:DAYLIGHT
TZOFFSETFROM:+0100
TZOFFSETTO:+0200
TZNAME:CEST
DTSTART:20210328T010000
END:DAYLIGHT
BEGIN:STANDARD
TZOFFSETFROM:+0200
TZOFFSETTO:+0100
TZNAME:CET
DTSTART:20211031T010000
END:STANDARD
BEGIN:DAYLIGHT
TZOFFSETFROM:+0100
TZOFFSETTO:+0200
TZNAME:CEST
DTSTART:20220327T010000
END:DAYLIGHT
BEGIN:STANDARD
TZOFFSETFROM:+0200
TZOFFSETTO:+0100
TZNAME:CET
DTSTART:20221030T010000
END:STANDARD
BEGIN:DAYLIGHT
TZOFFSETFROM:+0100
TZOFFSETTO:+0200
TZNAME:CEST
DTSTART:20230326T010000
END:DAYLIGHT
BEGIN:STANDARD
TZOFFSETFROM:+0200
TZOFFSETTO:+0100
TZNAME:CET
DTSTART:20231029T010000
END:STANDARD
END:VTIMEZONE
BEGIN:VEVENT
DTSTART;TZID=Europe/Berlin:20220304T180000
DTEND;TZID=Europe/Berlin:20220304T213000
DTSTAMP:20260422T214056
CREATED:20220124T224922Z
LAST-MODIFIED:20220222T183554Z
UID:3139-1646416800-1646429400@tsc-weiss-gold.de
SUMMARY:Tanztraining
DESCRIPTION:Große Halle:\nGruppe 1:   18:00 – 19:00 Uhr\nGruppe 0:  19:15 – 20:15 Uhr\nGruppe 2:  20:30 – 21:30 Uhr\nKleine Halle:\nGruppe A:  20:15 – 21:30 Uhr
URL:https://tsc-weiss-gold.de/event/tanztraining-61/
LOCATION:Schulsporthalle Realschule Plus\, Neumayerstrasse 27\, Weisenheim am Berg\, 67273
END:VEVENT
BEGIN:VEVENT
DTSTART;TZID=Europe/Berlin:20220305T150000
DTEND;TZID=Europe/Berlin:20220305T170000
DTSTAMP:20260422T214056
CREATED:20220104T193156Z
LAST-MODIFIED:20220104T193156Z
UID:3091-1646492400-1646499600@tsc-weiss-gold.de
SUMMARY:Freies Tanztraining
DESCRIPTION:
URL:https://tsc-weiss-gold.de/event/freies-tanztraining-24/
LOCATION:Schulsporthalle Realschule Plus\, Neumayerstrasse 27\, Weisenheim am Berg\, 67273
END:VEVENT
BEGIN:VEVENT
DTSTART;TZID=Europe/Berlin:20220311T180000
DTEND;TZID=Europe/Berlin:20220311T213000
DTSTAMP:20260422T214056
CREATED:20220124T225000Z
LAST-MODIFIED:20220222T183622Z
UID:3141-1647021600-1647034200@tsc-weiss-gold.de
SUMMARY:Tanztraining
DESCRIPTION:Große Halle:\nGruppe 1:   18:00 – 19:00 Uhr\nGruppe 0:  19:15 – 20:15 Uhr\nGruppe 2:  20:30 – 21:30 Uhr\nKleine Halle:\nGruppe A:  20:15 – 21:30 Uhr
URL:https://tsc-weiss-gold.de/event/tanztraining-62/
LOCATION:Schulsporthalle Realschule Plus\, Neumayerstrasse 27\, Weisenheim am Berg\, 67273
END:VEVENT
BEGIN:VEVENT
DTSTART;TZID=Europe/Berlin:20220318T190000
DTEND;TZID=Europe/Berlin:20220318T210000
DTSTAMP:20260422T214056
CREATED:20220124T225040Z
LAST-MODIFIED:20220316T110500Z
UID:3143-1647630000-1647637200@tsc-weiss-gold.de
SUMMARY:Freies Tanztraining Gruppen 0\, 1\, 2
DESCRIPTION:
URL:https://tsc-weiss-gold.de/event/tanztraining-63/
LOCATION:Schulsporthalle Realschule Plus\, Neumayerstrasse 27\, Weisenheim am Berg\, 67273
END:VEVENT
BEGIN:VEVENT
DTSTART;TZID=Europe/Berlin:20220318T201500
DTEND;TZID=Europe/Berlin:20220318T213000
DTSTAMP:20260422T214056
CREATED:20220316T110610Z
LAST-MODIFIED:20220316T110610Z
UID:3419-1647634500-1647639000@tsc-weiss-gold.de
SUMMARY:Tanztraining Gruppe A
DESCRIPTION:
URL:https://tsc-weiss-gold.de/event/tanztraining-gruppe-a-3/
LOCATION:Schulsporthalle Realschule Plus\, Neumayerstrasse 27\, Weisenheim am Berg\, 67273
END:VEVENT
BEGIN:VEVENT
DTSTART;TZID=Europe/Berlin:20220325T190000
DTEND;TZID=Europe/Berlin:20220325T210000
DTSTAMP:20260422T214056
CREATED:20220124T225116Z
LAST-MODIFIED:20220316T110704Z
UID:3145-1648234800-1648242000@tsc-weiss-gold.de
SUMMARY:Freies Tanztraining Gruppen 0\, 1\, 2
DESCRIPTION:
URL:https://tsc-weiss-gold.de/event/tanztraining-64/
LOCATION:Schulsporthalle Realschule Plus\, Neumayerstrasse 27\, Weisenheim am Berg\, 67273
END:VEVENT
BEGIN:VEVENT
DTSTART;TZID=Europe/Berlin:20220325T201500
DTEND;TZID=Europe/Berlin:20220325T213000
DTSTAMP:20260422T214056
CREATED:20220316T110747Z
LAST-MODIFIED:20220316T110747Z
UID:3422-1648239300-1648243800@tsc-weiss-gold.de
SUMMARY:Tanztraining Gruppe A
DESCRIPTION:
URL:https://tsc-weiss-gold.de/event/tanztraining-gruppe-a-4/
LOCATION:Schulsporthalle Realschule Plus\, Neumayerstrasse 27\, Weisenheim am Berg\, 67273
END:VEVENT
END:VCALENDAR