BEGIN:VCALENDAR
VERSION:2.0
PRODID:-//Tanzsportclub Weiß-Gold - ECPv6.15.20//NONSGML v1.0//EN
CALSCALE:GREGORIAN
METHOD:PUBLISH
X-WR-CALNAME:Tanzsportclub Weiß-Gold
X-ORIGINAL-URL:https://tsc-weiss-gold.de
X-WR-CALDESC:Veranstaltungen für Tanzsportclub Weiß-Gold
REFRESH-INTERVAL;VALUE=DURATION:PT1H
X-Robots-Tag:noindex
X-PUBLISHED-TTL:PT1H
BEGIN:VTIMEZONE
TZID:Europe/Berlin
BEGIN:DAYLIGHT
TZOFFSETFROM:+0100
TZOFFSETTO:+0200
TZNAME:CEST
DTSTART:20210328T010000
END:DAYLIGHT
BEGIN:STANDARD
TZOFFSETFROM:+0200
TZOFFSETTO:+0100
TZNAME:CET
DTSTART:20211031T010000
END:STANDARD
BEGIN:DAYLIGHT
TZOFFSETFROM:+0100
TZOFFSETTO:+0200
TZNAME:CEST
DTSTART:20220327T010000
END:DAYLIGHT
BEGIN:STANDARD
TZOFFSETFROM:+0200
TZOFFSETTO:+0100
TZNAME:CET
DTSTART:20221030T010000
END:STANDARD
BEGIN:DAYLIGHT
TZOFFSETFROM:+0100
TZOFFSETTO:+0200
TZNAME:CEST
DTSTART:20230326T010000
END:DAYLIGHT
BEGIN:STANDARD
TZOFFSETFROM:+0200
TZOFFSETTO:+0100
TZNAME:CET
DTSTART:20231029T010000
END:STANDARD
END:VTIMEZONE
BEGIN:VEVENT
DTSTART;TZID=Europe/Berlin:20220204T180000
DTEND;TZID=Europe/Berlin:20220204T213000
DTSTAMP:20260423T000446
CREATED:20220124T224644Z
LAST-MODIFIED:20220124T224644Z
UID:3131-1643997600-1644010200@tsc-weiss-gold.de
SUMMARY:Tanztraining
DESCRIPTION:Gruppe 1:   18:00 – 19:00 Uhr\nGruppe 0:  19:15 – 20:15 Uhr\nGruppe 2:  20:30 – 21:30 Uhr\nGruppe A:  20:15 – 21:30 Uhr (kleine Halle) \n 
URL:https://tsc-weiss-gold.de/event/tanztraining-57/
LOCATION:Schulsporthalle Realschule Plus\, Neumayerstrasse 27\, Weisenheim am Berg\, 67273
END:VEVENT
BEGIN:VEVENT
DTSTART;TZID=Europe/Berlin:20220205T150000
DTEND;TZID=Europe/Berlin:20220205T170000
DTSTAMP:20260423T000446
CREATED:20220104T193121Z
LAST-MODIFIED:20220104T193121Z
UID:3089-1644073200-1644080400@tsc-weiss-gold.de
SUMMARY:Freies Tanztraining
DESCRIPTION:
URL:https://tsc-weiss-gold.de/event/freies-tanztraining-23/
LOCATION:Schulsporthalle Realschule Plus\, Neumayerstrasse 27\, Weisenheim am Berg\, 67273
END:VEVENT
BEGIN:VEVENT
DTSTART;TZID=Europe/Berlin:20220211T180000
DTEND;TZID=Europe/Berlin:20220211T213000
DTSTAMP:20260423T000446
CREATED:20220124T224722Z
LAST-MODIFIED:20220124T224722Z
UID:3133-1644602400-1644615000@tsc-weiss-gold.de
SUMMARY:Tanztraining
DESCRIPTION:Gruppe 1:   18:00 – 19:00 Uhr\nGruppe 0:  19:15 – 20:15 Uhr\nGruppe 2:  20:30 – 21:30 Uhr\nGruppe A:  20:15 – 21:30 Uhr (kleine Halle)
URL:https://tsc-weiss-gold.de/event/tanztraining-58/
LOCATION:Schulsporthalle Realschule Plus\, Neumayerstrasse 27\, Weisenheim am Berg\, 67273
END:VEVENT
BEGIN:VEVENT
DTSTART;TZID=Europe/Berlin:20220218T180000
DTEND;TZID=Europe/Berlin:20220218T213000
DTSTAMP:20260423T000446
CREATED:20220124T224757Z
LAST-MODIFIED:20220124T224757Z
UID:3135-1645207200-1645219800@tsc-weiss-gold.de
SUMMARY:Tanztraining
DESCRIPTION:Gruppe 1:   18:00 – 19:00 Uhr\nGruppe 0:  19:15 – 20:15 Uhr\nGruppe 2:  20:30 – 21:30 Uhr\nGruppe A:  20:15 – 21:30 Uhr (kleine Halle)
URL:https://tsc-weiss-gold.de/event/tanztraining-59/
LOCATION:Schulsporthalle Realschule Plus\, Neumayerstrasse 27\, Weisenheim am Berg\, 67273
END:VEVENT
BEGIN:VEVENT
DTSTART;TZID=Europe/Berlin:20220219T140000
DTEND;TZID=Europe/Berlin:20220219T163000
DTSTAMP:20260423T000446
CREATED:20220124T224051Z
LAST-MODIFIED:20220204T150941Z
UID:3127-1645279200-1645288200@tsc-weiss-gold.de
SUMMARY:Workshop Langsamer Walzer
DESCRIPTION:Leitung: Kim und Christian Weber \nUnkostenbeitrag: 10.- €/Paar
URL:https://tsc-weiss-gold.de/event/workshop-langsamer-walzer/
LOCATION:Schulsporthalle Realschule Plus\, Neumayerstrasse 27\, Weisenheim am Berg\, 67273
END:VEVENT
BEGIN:VEVENT
DTSTART;TZID=Europe/Berlin:20220225T180000
DTEND;TZID=Europe/Berlin:20220225T213000
DTSTAMP:20260423T000446
CREATED:20220124T224837Z
LAST-MODIFIED:20220222T183526Z
UID:3137-1645812000-1645824600@tsc-weiss-gold.de
SUMMARY:Tanztraining
DESCRIPTION:Große Halle:\nGruppe 1:   18:00 – 19:00 Uhr\nGruppe 0:  19:15 – 20:15 Uhr\nGruppe 2:  20:30 – 21:30 Uhr\nKleine Halle:\nGruppe A:  20:15 – 21:30 Uhr
URL:https://tsc-weiss-gold.de/event/tanztraining-60/
LOCATION:Schulsporthalle Realschule Plus\, Neumayerstrasse 27\, Weisenheim am Berg\, 67273
END:VEVENT
BEGIN:VEVENT
DTSTART;TZID=Europe/Berlin:20220226T150000
DTEND;TZID=Europe/Berlin:20220226T170000
DTSTAMP:20260423T000446
CREATED:20220124T224252Z
LAST-MODIFIED:20220124T224252Z
UID:3129-1645887600-1645894800@tsc-weiss-gold.de
SUMMARY:Workshop Salsa
DESCRIPTION:Leitung: Martina Mroczek und Andreas Krug \nUnkostenbeitrag: 10.- €/Paar
URL:https://tsc-weiss-gold.de/event/workshop-salsa/
LOCATION:Schulsporthalle Realschule Plus\, Neumayerstrasse 27\, Weisenheim am Berg\, 67273
END:VEVENT
END:VCALENDAR