BEGIN:VCALENDAR
VERSION:2.0
PRODID:-//Tanzsportclub Weiß-Gold - ECPv6.15.20//NONSGML v1.0//EN
CALSCALE:GREGORIAN
METHOD:PUBLISH
X-WR-CALNAME:Tanzsportclub Weiß-Gold
X-ORIGINAL-URL:https://tsc-weiss-gold.de
X-WR-CALDESC:Veranstaltungen für Tanzsportclub Weiß-Gold
REFRESH-INTERVAL;VALUE=DURATION:PT1H
X-Robots-Tag:noindex
X-PUBLISHED-TTL:PT1H
BEGIN:VTIMEZONE
TZID:Europe/Berlin
BEGIN:DAYLIGHT
TZOFFSETFROM:+0100
TZOFFSETTO:+0200
TZNAME:CEST
DTSTART:20200329T010000
END:DAYLIGHT
BEGIN:STANDARD
TZOFFSETFROM:+0200
TZOFFSETTO:+0100
TZNAME:CET
DTSTART:20201025T010000
END:STANDARD
BEGIN:DAYLIGHT
TZOFFSETFROM:+0100
TZOFFSETTO:+0200
TZNAME:CEST
DTSTART:20210328T010000
END:DAYLIGHT
BEGIN:STANDARD
TZOFFSETFROM:+0200
TZOFFSETTO:+0100
TZNAME:CET
DTSTART:20211031T010000
END:STANDARD
BEGIN:DAYLIGHT
TZOFFSETFROM:+0100
TZOFFSETTO:+0200
TZNAME:CEST
DTSTART:20220327T010000
END:DAYLIGHT
BEGIN:STANDARD
TZOFFSETFROM:+0200
TZOFFSETTO:+0100
TZNAME:CET
DTSTART:20221030T010000
END:STANDARD
END:VTIMEZONE
BEGIN:VEVENT
DTSTART;TZID=Europe/Berlin:20211105T190000
DTEND;TZID=Europe/Berlin:20211105T210000
DTSTAMP:20260423T044827
CREATED:20210912T075634Z
LAST-MODIFIED:20211101T090559Z
UID:2793-1636138800-1636146000@tsc-weiss-gold.de
SUMMARY:Tanztraining Discofox
DESCRIPTION:Discofox-Training für die Gruppen 0\, 1 und 2 unter Anleitung von Inge und Siegfried Mayer-Hermann
URL:https://tsc-weiss-gold.de/event/tanztraining-50/
LOCATION:Schulsporthalle Realschule Plus\, Neumayerstrasse 27\, Weisenheim am Berg\, 67273
END:VEVENT
BEGIN:VEVENT
DTSTART;TZID=Europe/Berlin:20211105T201500
DTEND;TZID=Europe/Berlin:20211105T213000
DTSTAMP:20260423T044827
CREATED:20211101T081348Z
LAST-MODIFIED:20211101T081538Z
UID:2920-1636143300-1636147800@tsc-weiss-gold.de
SUMMARY:Tanztraining Gruppe A
DESCRIPTION:Leitung: Christin Baumann \nOrt: kleine Halle
URL:https://tsc-weiss-gold.de/event/tanztraining-gruppe-a/
LOCATION:Schulsporthalle Realschule Plus\, Neumayerstrasse 27\, Weisenheim am Berg\, 67273
END:VEVENT
BEGIN:VEVENT
DTSTART;TZID=Europe/Berlin:20211106T150000
DTEND;TZID=Europe/Berlin:20211106T170000
DTSTAMP:20260423T044827
CREATED:20210912T095530Z
LAST-MODIFIED:20210912T095530Z
UID:2816-1636210800-1636218000@tsc-weiss-gold.de
SUMMARY:Freies Tanztraining
DESCRIPTION:
URL:https://tsc-weiss-gold.de/event/freies-tanztraining-20/
LOCATION:Schulsporthalle Realschule Plus\, Neumayerstrasse 27\, Weisenheim am Berg\, 67273
END:VEVENT
BEGIN:VEVENT
DTSTART;TZID=Europe/Berlin:20211112T180000
DTEND;TZID=Europe/Berlin:20211112T213000
DTSTAMP:20260423T044827
CREATED:20210912T075710Z
LAST-MODIFIED:20210912T075710Z
UID:2795-1636740000-1636752600@tsc-weiss-gold.de
SUMMARY:Tanztraining
DESCRIPTION:Gruppe 1:    18:00 – 19:00 Uhr \nGruppe 0:   19:15 – 20:15 Uhr \nGruppe A:   20:15 – 21:30 Uhr  Leitung: Christin Baumann  Ort: kleine Halle \nGruppe 2:    20:30 – 21:30 Uhr
URL:https://tsc-weiss-gold.de/event/tanztraining-51/
LOCATION:Schulsporthalle Realschule Plus\, Neumayerstrasse 27\, Weisenheim am Berg\, 67273
END:VEVENT
BEGIN:VEVENT
DTSTART;TZID=Europe/Berlin:20211119T180000
DTEND;TZID=Europe/Berlin:20211119T213000
DTSTAMP:20260423T044827
CREATED:20210912T075747Z
LAST-MODIFIED:20210912T075747Z
UID:2797-1637344800-1637357400@tsc-weiss-gold.de
SUMMARY:Tanztraining
DESCRIPTION:Gruppe 1:    18:00 – 19:00 Uhr \nGruppe 0:   19:15 – 20:15 Uhr \nGruppe A:   20:15 – 21:30 Uhr  Leitung: Christin Baumann  Ort: kleine Halle \nGruppe 2:    20:30 – 21:30 Uhr
URL:https://tsc-weiss-gold.de/event/tanztraining-52/
LOCATION:Schulsporthalle Realschule Plus\, Neumayerstrasse 27\, Weisenheim am Berg\, 67273
END:VEVENT
BEGIN:VEVENT
DTSTART;TZID=Europe/Berlin:20211120T150000
DTEND;TZID=Europe/Berlin:20211120T170000
DTSTAMP:20260423T044827
CREATED:20210912T080603Z
LAST-MODIFIED:20211029T122737Z
UID:2811-1637420400-1637427600@tsc-weiss-gold.de
SUMMARY:DTSA-Abnahme
DESCRIPTION:Leitung: Barbara Liebsch \nEintanzen ab 14:00 Uhr \nBeginn: 15:00 Uhr \nAnmeldung erforderlich bei unserer Sportwartin: \nAndrea Pommer \nE-Mail: achim.pommer@t-online.de \nTel: 06353-1611
URL:https://tsc-weiss-gold.de/event/dtsa-abnahme/
LOCATION:Schulsporthalle Realschule Plus\, Neumayerstrasse 27\, Weisenheim am Berg\, 67273
END:VEVENT
BEGIN:VEVENT
DTSTART;TZID=Europe/Berlin:20211126T180000
DTEND;TZID=Europe/Berlin:20211126T213000
DTSTAMP:20260423T044827
CREATED:20210912T075859Z
LAST-MODIFIED:20210912T075859Z
UID:2801-1637949600-1637962200@tsc-weiss-gold.de
SUMMARY:Tanztraining
DESCRIPTION:Gruppe 1:    18:00 – 19:00 Uhr \nGruppe 0:   19:15 – 20:15 Uhr \nGruppe A:   20:15 – 21:30 Uhr  Leitung: Christin Baumann  Ort: kleine Halle \nGruppe 2:    20:30 – 21:30 Uhr
URL:https://tsc-weiss-gold.de/event/tanztraining-54/
LOCATION:Schulsporthalle Realschule Plus\, Neumayerstrasse 27\, Weisenheim am Berg\, 67273
END:VEVENT
END:VCALENDAR