BEGIN:VCALENDAR
VERSION:2.0
PRODID:-//Tanzsportclub Weiß-Gold - ECPv6.15.20//NONSGML v1.0//EN
CALSCALE:GREGORIAN
METHOD:PUBLISH
X-ORIGINAL-URL:https://tsc-weiss-gold.de
X-WR-CALDESC:Veranstaltungen für Tanzsportclub Weiß-Gold
REFRESH-INTERVAL;VALUE=DURATION:PT1H
X-Robots-Tag:noindex
X-PUBLISHED-TTL:PT1H
BEGIN:VTIMEZONE
TZID:Europe/Berlin
BEGIN:DAYLIGHT
TZOFFSETFROM:+0100
TZOFFSETTO:+0200
TZNAME:CEST
DTSTART:20200329T010000
END:DAYLIGHT
BEGIN:STANDARD
TZOFFSETFROM:+0200
TZOFFSETTO:+0100
TZNAME:CET
DTSTART:20201025T010000
END:STANDARD
BEGIN:DAYLIGHT
TZOFFSETFROM:+0100
TZOFFSETTO:+0200
TZNAME:CEST
DTSTART:20210328T010000
END:DAYLIGHT
BEGIN:STANDARD
TZOFFSETFROM:+0200
TZOFFSETTO:+0100
TZNAME:CET
DTSTART:20211031T010000
END:STANDARD
BEGIN:DAYLIGHT
TZOFFSETFROM:+0100
TZOFFSETTO:+0200
TZNAME:CEST
DTSTART:20220327T010000
END:DAYLIGHT
BEGIN:STANDARD
TZOFFSETFROM:+0200
TZOFFSETTO:+0100
TZNAME:CET
DTSTART:20221030T010000
END:STANDARD
END:VTIMEZONE
BEGIN:VEVENT
DTSTART;TZID=Europe/Berlin:20211001T180000
DTEND;TZID=Europe/Berlin:20211001T213000
DTSTAMP:20260423T060946
CREATED:20210912T075310Z
LAST-MODIFIED:20210912T075310Z
UID:2783-1633111200-1633123800@tsc-weiss-gold.de
SUMMARY:Tanztraining
DESCRIPTION:Gruppe 1:    18:00 – 19:00 Uhr \nGruppe 0:   19:15 – 20:15 Uhr \nGruppe A:   20:15 – 21:30 Uhr  Leitung: Christin Baumann  Ort: kleine Halle \nGruppe 2:    20:30 – 21:30 Uhr
URL:https://tsc-weiss-gold.de/event/tanztraining-45/
LOCATION:Schulsporthalle Realschule Plus\, Neumayerstrasse 27\, Weisenheim am Berg\, 67273
END:VEVENT
BEGIN:VEVENT
DTSTART;TZID=Europe/Berlin:20211002T150000
DTEND;TZID=Europe/Berlin:20211002T170000
DTSTAMP:20260423T060946
CREATED:20210912T095436Z
LAST-MODIFIED:20210912T095436Z
UID:2814-1633186800-1633194000@tsc-weiss-gold.de
SUMMARY:Freies Tanztraining
DESCRIPTION:
URL:https://tsc-weiss-gold.de/event/freies-tanztraining-10/
LOCATION:Schulsporthalle Realschule Plus\, Neumayerstrasse 27\, Weisenheim am Berg\, 67273
END:VEVENT
BEGIN:VEVENT
DTSTART;TZID=Europe/Berlin:20211008T180000
DTEND;TZID=Europe/Berlin:20211008T213000
DTSTAMP:20260423T060946
CREATED:20210912T075356Z
LAST-MODIFIED:20210912T075356Z
UID:2785-1633716000-1633728600@tsc-weiss-gold.de
SUMMARY:Tanztraining
DESCRIPTION:Gruppe 1:    18:00 – 19:00 Uhr \nGruppe 0:   19:15 – 20:15 Uhr \nGruppe A:   20:15 – 21:30 Uhr  Leitung: Christin Baumann  Ort: kleine Halle \nGruppe 2:    20:30 – 21:30 Uhr
URL:https://tsc-weiss-gold.de/event/tanztraining-46/
LOCATION:Schulsporthalle Realschule Plus\, Neumayerstrasse 27\, Weisenheim am Berg\, 67273
END:VEVENT
BEGIN:VEVENT
DTSTART;TZID=Europe/Berlin:20211009T150000
DTEND;TZID=Europe/Berlin:20211009T170000
DTSTAMP:20260423T060946
CREATED:20210912T080302Z
LAST-MODIFIED:20210920T172112Z
UID:2807-1633791600-1633798800@tsc-weiss-gold.de
SUMMARY:Discofox Workshop
DESCRIPTION:Leitung: Andreas Krug und Martina Mroczek
URL:https://tsc-weiss-gold.de/event/discofox-workshop/
LOCATION:Schulsporthalle Realschule Plus\, Neumayerstrasse 27\, Weisenheim am Berg\, 67273
END:VEVENT
BEGIN:VEVENT
DTSTART;TZID=Europe/Berlin:20211015T180000
DTEND;TZID=Europe/Berlin:20211015T213000
DTSTAMP:20260423T060946
CREATED:20210912T075433Z
LAST-MODIFIED:20210912T075433Z
UID:2787-1634320800-1634333400@tsc-weiss-gold.de
SUMMARY:Tanztraining
DESCRIPTION:Gruppe 1:    18:00 – 19:00 Uhr \nGruppe 0:   19:15 – 20:15 Uhr \nGruppe A:   20:15 – 21:30 Uhr  Leitung: Christin Baumann  Ort: kleine Halle \nGruppe 2:    20:30 – 21:30 Uhr
URL:https://tsc-weiss-gold.de/event/tanztraining-47/
LOCATION:Schulsporthalle Realschule Plus\, Neumayerstrasse 27\, Weisenheim am Berg\, 67273
END:VEVENT
BEGIN:VEVENT
DTSTART;TZID=Europe/Berlin:20211016T094500
DTEND;TZID=Europe/Berlin:20211016T140000
DTSTAMP:20260423T060946
CREATED:20210912T100339Z
LAST-MODIFIED:20210912T100339Z
UID:2818-1634377500-1634392800@tsc-weiss-gold.de
SUMMARY:Herbstwanderung
DESCRIPTION:Wanderführer: Konrad Rometsch\, Tel.: 06359-84356 \nTreffpunkt: Parkplatz Lindemannsruhe \nGewandert wird auf dem „Ganerbenweg“ (ca. 3h). \nNach der Wanderung findet ein gemütliches Beisammensein in einer Gaststätte statt. \n 
URL:https://tsc-weiss-gold.de/event/herbstwanderung/
END:VEVENT
BEGIN:VEVENT
DTSTART;TZID=Europe/Berlin:20211022T180000
DTEND;TZID=Europe/Berlin:20211022T213000
DTSTAMP:20260423T060946
CREATED:20210912T075507Z
LAST-MODIFIED:20210912T075507Z
UID:2789-1634925600-1634938200@tsc-weiss-gold.de
SUMMARY:Tanztraining
DESCRIPTION:Gruppe 1:    18:00 – 19:00 Uhr \nGruppe 0:   19:15 – 20:15 Uhr \nGruppe A:   20:15 – 21:30 Uhr  Leitung: Christin Baumann  Ort: kleine Halle \nGruppe 2:    20:30 – 21:30 Uhr
URL:https://tsc-weiss-gold.de/event/tanztraining-48/
LOCATION:Schulsporthalle Realschule Plus\, Neumayerstrasse 27\, Weisenheim am Berg\, 67273
END:VEVENT
BEGIN:VEVENT
DTSTART;TZID=Europe/Berlin:20211023T150000
DTEND;TZID=Europe/Berlin:20211023T170000
DTSTAMP:20260423T060946
CREATED:20210912T080342Z
LAST-MODIFIED:20210920T172041Z
UID:2809-1635001200-1635008400@tsc-weiss-gold.de
SUMMARY:Discofox Workshop
DESCRIPTION:Leitung: Andreas Krug und Martina Mroczek
URL:https://tsc-weiss-gold.de/event/discofox-workshop-2/
LOCATION:Schulsporthalle Realschule Plus\, Neumayerstrasse 27\, Weisenheim am Berg\, 67273
END:VEVENT
BEGIN:VEVENT
DTSTART;TZID=Europe/Berlin:20211029T180000
DTEND;TZID=Europe/Berlin:20211029T213000
DTSTAMP:20260423T060946
CREATED:20210912T075545Z
LAST-MODIFIED:20210912T075545Z
UID:2791-1635530400-1635543000@tsc-weiss-gold.de
SUMMARY:Tanztraining
DESCRIPTION:Gruppe 1:    18:00 – 19:00 Uhr \nGruppe 0:   19:15 – 20:15 Uhr \nGruppe A:   20:15 – 21:30 Uhr  Leitung: Christin Baumann  Ort: kleine Halle \nGruppe 2:    20:30 – 21:30 Uhr
URL:https://tsc-weiss-gold.de/event/tanztraining-49/
LOCATION:Schulsporthalle Realschule Plus\, Neumayerstrasse 27\, Weisenheim am Berg\, 67273
END:VEVENT
END:VCALENDAR