BEGIN:VCALENDAR
VERSION:2.0
PRODID:-//Tanzsportclub Weiß-Gold - ECPv6.15.20//NONSGML v1.0//EN
CALSCALE:GREGORIAN
METHOD:PUBLISH
X-ORIGINAL-URL:https://tsc-weiss-gold.de
X-WR-CALDESC:Veranstaltungen für Tanzsportclub Weiß-Gold
REFRESH-INTERVAL;VALUE=DURATION:PT1H
X-Robots-Tag:noindex
X-PUBLISHED-TTL:PT1H
BEGIN:VTIMEZONE
TZID:Europe/Berlin
BEGIN:DAYLIGHT
TZOFFSETFROM:+0100
TZOFFSETTO:+0200
TZNAME:CEST
DTSTART:20200329T010000
END:DAYLIGHT
BEGIN:STANDARD
TZOFFSETFROM:+0200
TZOFFSETTO:+0100
TZNAME:CET
DTSTART:20201025T010000
END:STANDARD
BEGIN:DAYLIGHT
TZOFFSETFROM:+0100
TZOFFSETTO:+0200
TZNAME:CEST
DTSTART:20210328T010000
END:DAYLIGHT
BEGIN:STANDARD
TZOFFSETFROM:+0200
TZOFFSETTO:+0100
TZNAME:CET
DTSTART:20211031T010000
END:STANDARD
BEGIN:DAYLIGHT
TZOFFSETFROM:+0100
TZOFFSETTO:+0200
TZNAME:CEST
DTSTART:20220327T010000
END:DAYLIGHT
BEGIN:STANDARD
TZOFFSETFROM:+0200
TZOFFSETTO:+0100
TZNAME:CET
DTSTART:20221030T010000
END:STANDARD
END:VTIMEZONE
BEGIN:VEVENT
DTSTART;TZID=Europe/Berlin:20210806T180000
DTEND;TZID=Europe/Berlin:20210806T213000
DTSTAMP:20260423T090122
CREATED:20210714T084938Z
LAST-MODIFIED:20210714T084938Z
UID:2659-1628272800-1628285400@tsc-weiss-gold.de
SUMMARY:Tanztraining
DESCRIPTION:Gruppe 1:         18:00 – 19:00 Uhr \nGruppe 0/A:   19:15 – 20:15 Uhr \nGruppe 2:         20:30 – 21:30 Uhr
URL:https://tsc-weiss-gold.de/event/tanztraining-28/
LOCATION:Dorfgemeinschaftshaus Obersülzen\, Hauptstrasse 66\, Obersülzen\, 67271
END:VEVENT
BEGIN:VEVENT
DTSTART;TZID=Europe/Berlin:20210813T180000
DTEND;TZID=Europe/Berlin:20210813T213000
DTSTAMP:20260423T090122
CREATED:20210714T085041Z
LAST-MODIFIED:20210714T085041Z
UID:2661-1628877600-1628890200@tsc-weiss-gold.de
SUMMARY:Tanztraining
DESCRIPTION:Gruppe 1:         18:00 – 19:00 Uhr \nGruppe 0/A:   19:15 – 20:15 Uhr \nGruppe 2:         20:30 – 21:30 Uhr
URL:https://tsc-weiss-gold.de/event/tanztraining-29/
LOCATION:Dorfgemeinschaftshaus Obersülzen\, Hauptstrasse 66\, Obersülzen\, 67271
END:VEVENT
BEGIN:VEVENT
DTSTART;TZID=Europe/Berlin:20210814T180000
DTEND;TZID=Europe/Berlin:20210814T230000
DTSTAMP:20260423T090122
CREATED:20210714T091515Z
LAST-MODIFIED:20210714T091515Z
UID:2676-1628964000-1628982000@tsc-weiss-gold.de
SUMMARY:Sommerfest
DESCRIPTION:
URL:https://tsc-weiss-gold.de/event/sommerfest/
LOCATION:Bürgerhaus\, Hauptstrasse 72\, Weisenheim am Berg\, 67273
END:VEVENT
BEGIN:VEVENT
DTSTART;TZID=Europe/Berlin:20210820T180000
DTEND;TZID=Europe/Berlin:20210820T213000
DTSTAMP:20260423T090122
CREATED:20210714T085134Z
LAST-MODIFIED:20210714T085512Z
UID:2663-1629482400-1629495000@tsc-weiss-gold.de
SUMMARY:Tanztraining
DESCRIPTION:Gruppe 1:         18:00 – 19:00 Uhr \nGruppe 0/A:   19:15 – 20:15 Uhr \nGruppe 2:         20:30 – 21:30 Uhr
URL:https://tsc-weiss-gold.de/event/tanztraining-30/
LOCATION:Schulsporthalle Realschule Plus\, Neumayerstrasse 27\, Weisenheim am Berg\, 67273
END:VEVENT
BEGIN:VEVENT
DTSTART;TZID=Europe/Berlin:20210827T180000
DTEND;TZID=Europe/Berlin:20210827T213000
DTSTAMP:20260423T090122
CREATED:20210714T085249Z
LAST-MODIFIED:20210714T085249Z
UID:2665-1630087200-1630099800@tsc-weiss-gold.de
SUMMARY:Tanztraining
DESCRIPTION:Gruppe 1:         18:00 – 19:00 Uhr \nGruppe 0/A:   19:15 – 20:15 Uhr \nGruppe 2:         20:30 – 21:30 Uhr
URL:https://tsc-weiss-gold.de/event/tanztraining-36/
LOCATION:Schulsporthalle Realschule Plus\, Neumayerstrasse 27\, Weisenheim am Berg\, 67273
END:VEVENT
END:VCALENDAR