BEGIN:VCALENDAR
VERSION:2.0
PRODID:-//Tanzsportclub Weiß-Gold - ECPv6.15.20//NONSGML v1.0//EN
CALSCALE:GREGORIAN
METHOD:PUBLISH
X-ORIGINAL-URL:https://tsc-weiss-gold.de
X-WR-CALDESC:Veranstaltungen für Tanzsportclub Weiß-Gold
REFRESH-INTERVAL;VALUE=DURATION:PT1H
X-Robots-Tag:noindex
X-PUBLISHED-TTL:PT1H
BEGIN:VTIMEZONE
TZID:Europe/Berlin
BEGIN:DAYLIGHT
TZOFFSETFROM:+0100
TZOFFSETTO:+0200
TZNAME:CEST
DTSTART:20200329T010000
END:DAYLIGHT
BEGIN:STANDARD
TZOFFSETFROM:+0200
TZOFFSETTO:+0100
TZNAME:CET
DTSTART:20201025T010000
END:STANDARD
BEGIN:DAYLIGHT
TZOFFSETFROM:+0100
TZOFFSETTO:+0200
TZNAME:CEST
DTSTART:20210328T010000
END:DAYLIGHT
BEGIN:STANDARD
TZOFFSETFROM:+0200
TZOFFSETTO:+0100
TZNAME:CET
DTSTART:20211031T010000
END:STANDARD
BEGIN:DAYLIGHT
TZOFFSETFROM:+0100
TZOFFSETTO:+0200
TZNAME:CEST
DTSTART:20220327T010000
END:DAYLIGHT
BEGIN:STANDARD
TZOFFSETFROM:+0200
TZOFFSETTO:+0100
TZNAME:CET
DTSTART:20221030T010000
END:STANDARD
END:VTIMEZONE
BEGIN:VEVENT
DTSTART;TZID=Europe/Berlin:20210702T180000
DTEND;TZID=Europe/Berlin:20210702T213000
DTSTAMP:20260423T102425
CREATED:20210714T090833Z
LAST-MODIFIED:20210714T090833Z
UID:2672-1625248800-1625261400@tsc-weiss-gold.de
SUMMARY:Tanztraining
DESCRIPTION:Gruppe 1:         18:00 – 19:00 Uhr \nGruppe 0/A:   19:15 – 20:15 Uhr \nGruppe 2:         20:30 – 21:30 Uhr
URL:https://tsc-weiss-gold.de/event/tanztraining-38/
LOCATION:Schulsporthalle Realschule Plus\, Neumayerstrasse 27\, Weisenheim am Berg\, 67273
END:VEVENT
BEGIN:VEVENT
DTSTART;TZID=Europe/Berlin:20210709T180000
DTEND;TZID=Europe/Berlin:20210709T213000
DTSTAMP:20260423T102425
CREATED:20210714T090924Z
LAST-MODIFIED:20210714T090924Z
UID:2674-1625853600-1625866200@tsc-weiss-gold.de
SUMMARY:Tanztraining
DESCRIPTION:Gruppe 1:         18:00 – 19:00 Uhr \nGruppe 0/A:   19:15 – 20:15 Uhr \nGruppe 2:         20:30 – 21:30 Uhr
URL:https://tsc-weiss-gold.de/event/tanztraining-39/
LOCATION:Schulsporthalle Realschule Plus\, Neumayerstrasse 27\, Weisenheim am Berg\, 67273
END:VEVENT
BEGIN:VEVENT
DTSTART;TZID=Europe/Berlin:20210716T180000
DTEND;TZID=Europe/Berlin:20210716T213000
DTSTAMP:20260423T102425
CREATED:20210714T084403Z
LAST-MODIFIED:20210714T084403Z
UID:2653-1626458400-1626471000@tsc-weiss-gold.de
SUMMARY:Tanztraining
DESCRIPTION:Gruppe 1:         18:00 – 19:00 Uhr \nGruppe 0/A:   19:15 – 20:15 Uhr \nGruppe 2:         20:30 – 21:30 Uhr
URL:https://tsc-weiss-gold.de/event/tanztraining-24/
LOCATION:Schulsporthalle Realschule Plus\, Neumayerstrasse 27\, Weisenheim am Berg\, 67273
END:VEVENT
BEGIN:VEVENT
DTSTART;TZID=Europe/Berlin:20210723T180000
DTEND;TZID=Europe/Berlin:20210723T213000
DTSTAMP:20260423T102425
CREATED:20210714T084722Z
LAST-MODIFIED:20210714T084722Z
UID:2655-1627063200-1627075800@tsc-weiss-gold.de
SUMMARY:Tanztraining
DESCRIPTION:
URL:https://tsc-weiss-gold.de/event/tanztraining-26/
LOCATION:Dorfgemeinschaftshaus Obersülzen\, Hauptstrasse 66\, Obersülzen\, 67271
END:VEVENT
BEGIN:VEVENT
DTSTART;TZID=Europe/Berlin:20210730T180000
DTEND;TZID=Europe/Berlin:20210730T213000
DTSTAMP:20260423T102425
CREATED:20210714T084834Z
LAST-MODIFIED:20210714T084834Z
UID:2657-1627668000-1627680600@tsc-weiss-gold.de
SUMMARY:Tanztraining
DESCRIPTION:Gruppe 1:         18:00 – 19:00 Uhr \nGruppe 0/A:   19:15 – 20:15 Uhr \nGruppe 2:         20:30 – 21:30 Uhr
URL:https://tsc-weiss-gold.de/event/tanztraining-27/
LOCATION:Dorfgemeinschaftshaus Obersülzen\, Hauptstrasse 66\, Obersülzen\, 67271
END:VEVENT
END:VCALENDAR