BEGIN:VCALENDAR
VERSION:2.0
PRODID:-//Tanzsportclub Weiß-Gold - ECPv6.15.20//NONSGML v1.0//EN
CALSCALE:GREGORIAN
METHOD:PUBLISH
X-WR-CALNAME:Tanzsportclub Weiß-Gold
X-ORIGINAL-URL:https://tsc-weiss-gold.de
X-WR-CALDESC:Veranstaltungen für Tanzsportclub Weiß-Gold
REFRESH-INTERVAL;VALUE=DURATION:PT1H
X-Robots-Tag:noindex
X-PUBLISHED-TTL:PT1H
BEGIN:VTIMEZONE
TZID:Europe/Berlin
BEGIN:DAYLIGHT
TZOFFSETFROM:+0100
TZOFFSETTO:+0200
TZNAME:CEST
DTSTART:20200329T010000
END:DAYLIGHT
BEGIN:STANDARD
TZOFFSETFROM:+0200
TZOFFSETTO:+0100
TZNAME:CET
DTSTART:20201025T010000
END:STANDARD
BEGIN:DAYLIGHT
TZOFFSETFROM:+0100
TZOFFSETTO:+0200
TZNAME:CEST
DTSTART:20210328T010000
END:DAYLIGHT
BEGIN:STANDARD
TZOFFSETFROM:+0200
TZOFFSETTO:+0100
TZNAME:CET
DTSTART:20211031T010000
END:STANDARD
BEGIN:DAYLIGHT
TZOFFSETFROM:+0100
TZOFFSETTO:+0200
TZNAME:CEST
DTSTART:20220327T010000
END:DAYLIGHT
BEGIN:STANDARD
TZOFFSETFROM:+0200
TZOFFSETTO:+0100
TZNAME:CET
DTSTART:20221030T010000
END:STANDARD
END:VTIMEZONE
BEGIN:VEVENT
DTSTART;TZID=Europe/Berlin:20210615T190000
DTEND;TZID=Europe/Berlin:20210615T210000
DTSTAMP:20260423T121552
CREATED:20210421T081443Z
LAST-MODIFIED:20210421T081708Z
UID:2564-1623783600-1623790800@tsc-weiss-gold.de
SUMMARY:Online-Workshop Discofox
DESCRIPTION:Leitung: Martina Mroczek und Andreas Krug
URL:https://tsc-weiss-gold.de/event/online-workshop-discofox-2/
LOCATION:Zoom-Meeting
END:VEVENT
BEGIN:VEVENT
DTSTART;TZID=Europe/Berlin:20210625T180000
DTEND;TZID=Europe/Berlin:20210625T213000
DTSTAMP:20260423T121552
CREATED:20210617T224202Z
LAST-MODIFIED:20210622T183753Z
UID:2627-1624644000-1624656600@tsc-weiss-gold.de
SUMMARY:Tanztraining
DESCRIPTION:Leitung: Martin Stiewing \nWir trainieren in drei Gruppen: \nGruppe 1:  18:00 – 19:00 Uhr \nGruppe 0/A:  19:15 – 20:15 Uhr \nGruppe 2: 20:30 – 21:30 Uhr \nTeilnahme für Mitglieder nur nach der aktuell gültigen 23. Corona-Schutzverordnung des Landes Rheinland-Pfalz\, d.h. gegen Vorlage eines negativen Schnelltests nicht älter als 24 Stunden\, Nachweis einer vollständigen Impfung oder Genesung (positiver PCR-Test\, mindestens 28 Tage\, höchstens 6 Monate alt). \nDie genauen Randbedingungen für die Teilnahme am Training sind im aktuellen Hygienekonzept-III-Corona des Vereins beschrieben\, das am 21.06.2021 von Thomas Salzer per Mail an alle Mitglieder verschickt wurde und über den Link im Menü „Aktuell“ einsehbar ist. \nWir bitten weiterhin vor Trainingsbeginn um Eintrag in die ausliegenden Teilnehmerlisten zur etwaigen Kontaktnachverfolgung und zur Bestätigung\, dass das aktuelle Hygienekonzept des Vereins eingehalten wird.
URL:https://tsc-weiss-gold.de/event/tanztraining-22/
LOCATION:Schulsporthalle Realschule Plus\, Neumayerstrasse 27\, Weisenheim am Berg\, 67273
END:VEVENT
BEGIN:VEVENT
DTSTART;TZID=Europe/Berlin:20210625T180000
DTEND;TZID=Europe/Berlin:20210625T213000
DTSTAMP:20260423T121552
CREATED:20210714T090742Z
LAST-MODIFIED:20210714T090742Z
UID:2670-1624644000-1624656600@tsc-weiss-gold.de
SUMMARY:Tanztraining
DESCRIPTION:Gruppe 1:         18:00 – 19:00 Uhr \nGruppe 0/A:   19:15 – 20:15 Uhr \nGruppe 2:         20:30 – 21:30 Uhr
URL:https://tsc-weiss-gold.de/event/tanztraining-37/
LOCATION:Schulsporthalle Realschule Plus\, Neumayerstrasse 27\, Weisenheim am Berg\, 67273
END:VEVENT
END:VCALENDAR