BEGIN:VCALENDAR
VERSION:2.0
PRODID:-//Tanzsportclub Weiß-Gold - ECPv6.15.20//NONSGML v1.0//EN
CALSCALE:GREGORIAN
METHOD:PUBLISH
X-ORIGINAL-URL:https://tsc-weiss-gold.de
X-WR-CALDESC:Veranstaltungen für Tanzsportclub Weiß-Gold
REFRESH-INTERVAL;VALUE=DURATION:PT1H
X-Robots-Tag:noindex
X-PUBLISHED-TTL:PT1H
BEGIN:VTIMEZONE
TZID:Europe/Berlin
BEGIN:DAYLIGHT
TZOFFSETFROM:+0100
TZOFFSETTO:+0200
TZNAME:CEST
DTSTART:20250330T010000
END:DAYLIGHT
BEGIN:STANDARD
TZOFFSETFROM:+0200
TZOFFSETTO:+0100
TZNAME:CET
DTSTART:20251026T010000
END:STANDARD
BEGIN:DAYLIGHT
TZOFFSETFROM:+0100
TZOFFSETTO:+0200
TZNAME:CEST
DTSTART:20260329T010000
END:DAYLIGHT
BEGIN:STANDARD
TZOFFSETFROM:+0200
TZOFFSETTO:+0100
TZNAME:CET
DTSTART:20261025T010000
END:STANDARD
BEGIN:DAYLIGHT
TZOFFSETFROM:+0100
TZOFFSETTO:+0200
TZNAME:CEST
DTSTART:20270328T010000
END:DAYLIGHT
BEGIN:STANDARD
TZOFFSETFROM:+0200
TZOFFSETTO:+0100
TZNAME:CET
DTSTART:20271031T010000
END:STANDARD
END:VTIMEZONE
BEGIN:VEVENT
DTSTART;TZID=Europe/Berlin:20261205T150000
DTEND;TZID=Europe/Berlin:20261205T170000
DTSTAMP:20260421T200912
CREATED:20251115T171221Z
LAST-MODIFIED:20251123T120647Z
UID:6517-1796482800-1796490000@tsc-weiss-gold.de
SUMMARY:Freies Tanztraining
DESCRIPTION:Gemeinsames Tanzen aller Gruppen ohne Trainer.
URL:https://tsc-weiss-gold.de/event/freies-tanztraining-77/
LOCATION:Schulsporthalle Realschule Plus\, Neumayerstrasse 27\, Weisenheim am Berg\, 67273
END:VEVENT
BEGIN:VEVENT
DTSTART;TZID=Europe/Berlin:20261211T180000
DTEND;TZID=Europe/Berlin:20261211T214500
DTSTAMP:20260421T200912
CREATED:20251115T174827Z
LAST-MODIFIED:20251115T181504Z
UID:6583-1797012000-1797025500@tsc-weiss-gold.de
SUMMARY:Tanztraining in 4 Gruppen
DESCRIPTION:Große Halle:\nGruppe B: 18:00 – 19:15\nGruppe H: 19:15 – 20:30\nGruppe S: 20:30 – 21:45\nLeitung: Martin Stiewing \nKleine Halle:\nGruppe A: 19:15 – 20:30\nLeitung: Siegfried & Inge Mayer-Hermann
URL:https://tsc-weiss-gold.de/event/tanztraining-227/
LOCATION:Schulsporthalle Realschule Plus\, Neumayerstrasse 27\, Weisenheim am Berg\, 67273
END:VEVENT
BEGIN:VEVENT
DTSTART;TZID=Europe/Berlin:20261218T183000
DTEND;TZID=Europe/Berlin:20261218T200000
DTSTAMP:20260421T200912
CREATED:20251115T172016Z
LAST-MODIFIED:20251115T172016Z
UID:6521-1797618600-1797624000@tsc-weiss-gold.de
SUMMARY:Weihnachtstanzen
DESCRIPTION:Alle Gruppentanzen gemeinsam.\nAnschließend der übliche Stehempfang …
URL:https://tsc-weiss-gold.de/event/weihnachtstanzen-4/
LOCATION:Schulsporthalle Realschule Plus\, Neumayerstrasse 27\, Weisenheim am Berg\, 67273
END:VEVENT
END:VCALENDAR