BEGIN:VCALENDAR
VERSION:2.0
PRODID:-//Tanzsportclub Weiß-Gold - ECPv6.15.20//NONSGML v1.0//EN
CALSCALE:GREGORIAN
METHOD:PUBLISH
X-WR-CALNAME:Tanzsportclub Weiß-Gold
X-ORIGINAL-URL:https://tsc-weiss-gold.de
X-WR-CALDESC:Veranstaltungen für Tanzsportclub Weiß-Gold
REFRESH-INTERVAL;VALUE=DURATION:PT1H
X-Robots-Tag:noindex
X-PUBLISHED-TTL:PT1H
BEGIN:VTIMEZONE
TZID:Europe/Berlin
BEGIN:DAYLIGHT
TZOFFSETFROM:+0100
TZOFFSETTO:+0200
TZNAME:CEST
DTSTART:20250330T010000
END:DAYLIGHT
BEGIN:STANDARD
TZOFFSETFROM:+0200
TZOFFSETTO:+0100
TZNAME:CET
DTSTART:20251026T010000
END:STANDARD
BEGIN:DAYLIGHT
TZOFFSETFROM:+0100
TZOFFSETTO:+0200
TZNAME:CEST
DTSTART:20260329T010000
END:DAYLIGHT
BEGIN:STANDARD
TZOFFSETFROM:+0200
TZOFFSETTO:+0100
TZNAME:CET
DTSTART:20261025T010000
END:STANDARD
BEGIN:DAYLIGHT
TZOFFSETFROM:+0100
TZOFFSETTO:+0200
TZNAME:CEST
DTSTART:20270328T010000
END:DAYLIGHT
BEGIN:STANDARD
TZOFFSETFROM:+0200
TZOFFSETTO:+0100
TZNAME:CET
DTSTART:20271031T010000
END:STANDARD
END:VTIMEZONE
BEGIN:VEVENT
DTSTART;TZID=Europe/Berlin:20261023T180000
DTEND;TZID=Europe/Berlin:20261023T214500
DTSTAMP:20260421T183019
CREATED:20251115T174413Z
LAST-MODIFIED:20251115T181943Z
UID:6571-1792778400-1792791900@tsc-weiss-gold.de
SUMMARY:Tanztraining in 4 Gruppen
DESCRIPTION:Große Halle:\nGruppe B: 18:00 – 19:15\nGruppe H: 19:15 – 20:30\nGruppe S: 20:30 – 21:45\nLeitung: Martin Stiewing \nKleine Halle:\nGruppe A: 19:15 – 20:30\nLeitung: Siegfried & Inge Mayer-Hermann
URL:https://tsc-weiss-gold.de/event/tanztraining-221/
LOCATION:Schulsporthalle Realschule Plus\, Neumayerstrasse 27\, Weisenheim am Berg\, 67273
END:VEVENT
BEGIN:VEVENT
DTSTART;TZID=Europe/Berlin:20261030T180000
DTEND;TZID=Europe/Berlin:20261030T214500
DTSTAMP:20260421T183019
CREATED:20251115T174450Z
LAST-MODIFIED:20251115T181917Z
UID:6573-1793383200-1793396700@tsc-weiss-gold.de
SUMMARY:Tanztraining  in 4 Gruppen
DESCRIPTION:Große Halle:\nGruppe B: 18:00 – 19:15\nGruppe H: 19:15 – 20:30\nGruppe S: 20:30 – 21:45\nLeitung: Martin Stiewing \nKleine Halle:\nGruppe A: 19:15 – 20:30\nLeitung: Siegfried & Inge Mayer-Hermann
URL:https://tsc-weiss-gold.de/event/tanztraining-222/
LOCATION:Schulsporthalle Realschule Plus\, Neumayerstrasse 27\, Weisenheim am Berg\, 67273
END:VEVENT
BEGIN:VEVENT
DTSTART;TZID=Europe/Berlin:20261031T150000
DTEND;TZID=Europe/Berlin:20261031T170000
DTSTAMP:20260421T183019
CREATED:20260322T165443Z
LAST-MODIFIED:20260322T165449Z
UID:6996-1793458800-1793466000@tsc-weiss-gold.de
SUMMARY:Workshop Wiener Walzer mit Martin und Michaela
DESCRIPTION:Workshop Wiener Walzer\nLeitung: Martin Stiewing und Michaela Pöllath
URL:https://tsc-weiss-gold.de/event/workshop-wiener-walzer-mit-martin-und-michaela/
LOCATION:Schulsporthalle Realschule Plus\, Neumayerstrasse 27\, Weisenheim am Berg\, 67273
END:VEVENT
BEGIN:VEVENT
DTSTART;TZID=Europe/Berlin:20261106T180000
DTEND;TZID=Europe/Berlin:20261106T214500
DTSTAMP:20260421T183019
CREATED:20251115T174528Z
LAST-MODIFIED:20251115T181856Z
UID:6575-1793988000-1794001500@tsc-weiss-gold.de
SUMMARY:Tanztraining in 4 Gruppen
DESCRIPTION:Große Halle:\nGruppe B: 18:00 – 19:15\nGruppe H: 19:15 – 20:30\nGruppe S: 20:30 – 21:45\nLeitung: Martin Stiewing \nKleine Halle:\nGruppe A: 19:15 – 20:30\nLeitung: Siegfried & Inge Mayer-Hermann
URL:https://tsc-weiss-gold.de/event/tanztraining-223/
LOCATION:Schulsporthalle Realschule Plus\, Neumayerstrasse 27\, Weisenheim am Berg\, 67273
END:VEVENT
BEGIN:VEVENT
DTSTART;TZID=Europe/Berlin:20261107T180000
DTEND;TZID=Europe/Berlin:20261107T220000
DTSTAMP:20260421T183019
CREATED:20251115T171057Z
LAST-MODIFIED:20260322T165152Z
UID:6512-1794074400-1794088800@tsc-weiss-gold.de
SUMMARY:Jahresabschlussfeier
DESCRIPTION:Die Jahresabschlussfeier findet im Restaurant „Dürkheimer Fass“ am Wurstmarktplatz statt.\nPostadresse:\nSankt-Michaels-Allee 1\n67098 Bad Dürkheim
URL:https://tsc-weiss-gold.de/event/freies-tanztraining-neu/
END:VEVENT
BEGIN:VEVENT
DTSTART;TZID=Europe/Berlin:20261113T180000
DTEND;TZID=Europe/Berlin:20261113T214500
DTSTAMP:20260421T183019
CREATED:20251115T174604Z
LAST-MODIFIED:20251115T181834Z
UID:6577-1794592800-1794606300@tsc-weiss-gold.de
SUMMARY:Tanztraining in 4 Gruppen
DESCRIPTION:Große Halle:\nGruppe B: 18:00 – 19:15\nGruppe H: 19:15 – 20:30\nGruppe S: 20:30 – 21:45\nLeitung: Martin Stiewing \nKleine Halle:\nGruppe A: 19:15 – 20:30\nLeitung: Siegfried & Inge Mayer-Hermann
URL:https://tsc-weiss-gold.de/event/tanztraining-224/
LOCATION:Schulsporthalle Realschule Plus\, Neumayerstrasse 27\, Weisenheim am Berg\, 67273
END:VEVENT
BEGIN:VEVENT
DTSTART;TZID=Europe/Berlin:20261114T150000
DTEND;TZID=Europe/Berlin:20261114T170000
DTSTAMP:20260421T183019
CREATED:20260322T164432Z
LAST-MODIFIED:20260322T164432Z
UID:6992-1794668400-1794675600@tsc-weiss-gold.de
SUMMARY:Freies Tanztraining
DESCRIPTION:Gemeinsames Tanzen aller Gruppen ohne Trainer.
URL:https://tsc-weiss-gold.de/event/freies-tanztraining-78/
LOCATION:Schulsporthalle Realschule Plus\, Neumayerstrasse 27\, Weisenheim am Berg\, 67273
END:VEVENT
BEGIN:VEVENT
DTSTART;TZID=Europe/Berlin:20261120T180000
DTEND;TZID=Europe/Berlin:20261120T214500
DTSTAMP:20260421T183019
CREATED:20260215T152528Z
LAST-MODIFIED:20260215T152528Z
UID:6913-1795197600-1795211100@tsc-weiss-gold.de
SUMMARY:Tanztraining in 4 Gruppen
DESCRIPTION:Große Halle:\nGruppe B: 18:00 – 19:15\nGruppe H: 19:15 – 20:30\nGruppe S: 20:30 – 21:45\nLeitung: Martin Stiewing \nKleine Halle:\nGruppe A: 19:15 – 20:30\nLeitung: Siegfried & Inge Mayer-Hermann
URL:https://tsc-weiss-gold.de/event/tanztraining-in-4-gruppen-2/
LOCATION:Schulsporthalle Realschule Plus\, Neumayerstrasse 27\, Weisenheim am Berg\, 67273
END:VEVENT
BEGIN:VEVENT
DTSTART;TZID=Europe/Berlin:20261127T180000
DTEND;TZID=Europe/Berlin:20261127T214500
DTSTAMP:20260421T183019
CREATED:20251115T174647Z
LAST-MODIFIED:20251115T181609Z
UID:6579-1795802400-1795815900@tsc-weiss-gold.de
SUMMARY:Tanztraining in 4 Gruppen
DESCRIPTION:Große Halle:\nGruppe B: 18:00 – 19:15\nGruppe H: 19:15 – 20:30\nGruppe S: 20:30 – 21:45\nLeitung: Martin Stiewing \nKleine Halle:\nGruppe A: 19:15 – 20:30\nLeitung: Siegfried & Inge Mayer-Hermann
URL:https://tsc-weiss-gold.de/event/tanztraining-225/
LOCATION:Schulsporthalle Realschule Plus\, Neumayerstrasse 27\, Weisenheim am Berg\, 67273
END:VEVENT
BEGIN:VEVENT
DTSTART;TZID=Europe/Berlin:20261204T180000
DTEND;TZID=Europe/Berlin:20261204T214500
DTSTAMP:20260421T183019
CREATED:20251115T174753Z
LAST-MODIFIED:20251115T181539Z
UID:6581-1796407200-1796420700@tsc-weiss-gold.de
SUMMARY:Tanztraining in 4 Gruppen
DESCRIPTION:Große Halle:\nGruppe B: 18:00 – 19:15\nGruppe H: 19:15 – 20:30\nGruppe S: 20:30 – 21:45\nLeitung: Martin Stiewing \nKleine Halle:\nGruppe A: 19:15 – 20:30\nLeitung: Siegfried & Inge Mayer-Hermann
URL:https://tsc-weiss-gold.de/event/tanztraining-226/
LOCATION:Schulsporthalle Realschule Plus\, Neumayerstrasse 27\, Weisenheim am Berg\, 67273
END:VEVENT
BEGIN:VEVENT
DTSTART;TZID=Europe/Berlin:20261205T150000
DTEND;TZID=Europe/Berlin:20261205T170000
DTSTAMP:20260421T183019
CREATED:20251115T171221Z
LAST-MODIFIED:20251123T120647Z
UID:6517-1796482800-1796490000@tsc-weiss-gold.de
SUMMARY:Freies Tanztraining
DESCRIPTION:Gemeinsames Tanzen aller Gruppen ohne Trainer.
URL:https://tsc-weiss-gold.de/event/freies-tanztraining-77/
LOCATION:Schulsporthalle Realschule Plus\, Neumayerstrasse 27\, Weisenheim am Berg\, 67273
END:VEVENT
BEGIN:VEVENT
DTSTART;TZID=Europe/Berlin:20261211T180000
DTEND;TZID=Europe/Berlin:20261211T214500
DTSTAMP:20260421T183019
CREATED:20251115T174827Z
LAST-MODIFIED:20251115T181504Z
UID:6583-1797012000-1797025500@tsc-weiss-gold.de
SUMMARY:Tanztraining in 4 Gruppen
DESCRIPTION:Große Halle:\nGruppe B: 18:00 – 19:15\nGruppe H: 19:15 – 20:30\nGruppe S: 20:30 – 21:45\nLeitung: Martin Stiewing \nKleine Halle:\nGruppe A: 19:15 – 20:30\nLeitung: Siegfried & Inge Mayer-Hermann
URL:https://tsc-weiss-gold.de/event/tanztraining-227/
LOCATION:Schulsporthalle Realschule Plus\, Neumayerstrasse 27\, Weisenheim am Berg\, 67273
END:VEVENT
BEGIN:VEVENT
DTSTART;TZID=Europe/Berlin:20261218T183000
DTEND;TZID=Europe/Berlin:20261218T200000
DTSTAMP:20260421T183019
CREATED:20251115T172016Z
LAST-MODIFIED:20251115T172016Z
UID:6521-1797618600-1797624000@tsc-weiss-gold.de
SUMMARY:Weihnachtstanzen
DESCRIPTION:Alle Gruppentanzen gemeinsam.\nAnschließend der übliche Stehempfang …
URL:https://tsc-weiss-gold.de/event/weihnachtstanzen-4/
LOCATION:Schulsporthalle Realschule Plus\, Neumayerstrasse 27\, Weisenheim am Berg\, 67273
END:VEVENT
END:VCALENDAR