BEGIN:VCALENDAR
VERSION:2.0
PRODID:-//Tanzsportclub Weiß-Gold - ECPv6.15.20//NONSGML v1.0//EN
CALSCALE:GREGORIAN
METHOD:PUBLISH
X-ORIGINAL-URL:https://tsc-weiss-gold.de
X-WR-CALDESC:Veranstaltungen für Tanzsportclub Weiß-Gold
REFRESH-INTERVAL;VALUE=DURATION:PT1H
X-Robots-Tag:noindex
X-PUBLISHED-TTL:PT1H
BEGIN:VTIMEZONE
TZID:Europe/Berlin
BEGIN:DAYLIGHT
TZOFFSETFROM:+0100
TZOFFSETTO:+0200
TZNAME:CEST
DTSTART:20250330T010000
END:DAYLIGHT
BEGIN:STANDARD
TZOFFSETFROM:+0200
TZOFFSETTO:+0100
TZNAME:CET
DTSTART:20251026T010000
END:STANDARD
BEGIN:DAYLIGHT
TZOFFSETFROM:+0100
TZOFFSETTO:+0200
TZNAME:CEST
DTSTART:20260329T010000
END:DAYLIGHT
BEGIN:STANDARD
TZOFFSETFROM:+0200
TZOFFSETTO:+0100
TZNAME:CET
DTSTART:20261025T010000
END:STANDARD
BEGIN:DAYLIGHT
TZOFFSETFROM:+0100
TZOFFSETTO:+0200
TZNAME:CEST
DTSTART:20270328T010000
END:DAYLIGHT
BEGIN:STANDARD
TZOFFSETFROM:+0200
TZOFFSETTO:+0100
TZNAME:CET
DTSTART:20271031T010000
END:STANDARD
END:VTIMEZONE
BEGIN:VEVENT
DTSTART;TZID=Europe/Berlin:20260424T180000
DTEND;TZID=Europe/Berlin:20260424T214500
DTSTAMP:20260421T150920
CREATED:20251115T173351Z
LAST-MODIFIED:20251115T182934Z
UID:6543-1777053600-1777067100@tsc-weiss-gold.de
SUMMARY:Tanztraining in 4 Gruppen
DESCRIPTION:Große Halle:\nGruppe B: 18:00 – 19:15\nGruppe H: 19:15 – 20:30\nGruppe S: 20:30 – 21:45\nLeitung: Martin Stiewing \nKleine Halle:\nGruppe A: 19:15 – 20:30\nLeitung: Siegfried & Inge Mayer-Hermann
URL:https://tsc-weiss-gold.de/event/tanztraining-207/
LOCATION:Schulsporthalle Realschule Plus\, Neumayerstrasse 27\, Weisenheim am Berg\, 67273
END:VEVENT
BEGIN:VEVENT
DTSTART;TZID=Europe/Berlin:20260426T150000
DTEND;TZID=Europe/Berlin:20260426T180000
DTSTAMP:20260421T150920
CREATED:20251115T175343Z
LAST-MODIFIED:20251115T175343Z
UID:6587-1777215600-1777226400@tsc-weiss-gold.de
SUMMARY:DTSA
DESCRIPTION:Eintanzen ab 14:00 Uhr.\nAb 15:00 Uhr Abnahme des Deutsch Tanz-Sport-Abzeichens.\nPrüferin: Claudia Kleineheismann
URL:https://tsc-weiss-gold.de/event/dtsa-4/
LOCATION:Schulsporthalle Realschule Plus\, Neumayerstrasse 27\, Weisenheim am Berg\, 67273
END:VEVENT
BEGIN:VEVENT
DTSTART;TZID=Europe/Berlin:20260502T150000
DTEND;TZID=Europe/Berlin:20260502T170000
DTSTAMP:20260421T150920
CREATED:20251115T170841Z
LAST-MODIFIED:20251115T170841Z
UID:6504-1777734000-1777741200@tsc-weiss-gold.de
SUMMARY:Freies Tanztraining
DESCRIPTION:Gemeinsames Tanzen aller Gruppen ohne Trainer.
URL:https://tsc-weiss-gold.de/event/freies-tanztraining-72/
LOCATION:Schulsporthalle Realschule Plus\, Neumayerstrasse 27\, Weisenheim am Berg\, 67273
END:VEVENT
BEGIN:VEVENT
DTSTART;TZID=Europe/Berlin:20260508T180000
DTEND;TZID=Europe/Berlin:20260508T214500
DTSTAMP:20260421T150920
CREATED:20251115T180205Z
LAST-MODIFIED:20251115T182848Z
UID:6597-1778263200-1778276700@tsc-weiss-gold.de
SUMMARY:Tanztraining in 4 Gruppen (3 mit Claudia ?)
DESCRIPTION:Große Halle:\nGruppe B: 18:00 – 19:15\nGruppe H: 19:15 – 20:30\nGruppe S: 20:30 – 21:45\nLeitung: Claudia Kleineheismann \nKleine Halle:\nGruppe A: 19:15 – 20:30\nLeitung: Siegfried & Inge Mayer-Hermann
URL:https://tsc-weiss-gold.de/event/tanztraining-mit-claudia-7/
LOCATION:Schulsporthalle Realschule Plus\, Neumayerstrasse 27\, Weisenheim am Berg\, 67273
END:VEVENT
BEGIN:VEVENT
DTSTART;TZID=Europe/Berlin:20260515T180000
DTEND;TZID=Europe/Berlin:20260515T214500
DTSTAMP:20260421T150920
CREATED:20251115T180314Z
LAST-MODIFIED:20251115T182806Z
UID:6599-1778868000-1778881500@tsc-weiss-gold.de
SUMMARY:Tanztraining in 4 Gruppen (3 mit Claudia)
DESCRIPTION:Große Halle:\nGruppe B: 18:00 – 19:15\nGruppe H: 19:15 – 20:30\nGruppe S: 20:30 – 21:45\nLeitung: Claudia Kleineheismann \nKleine Halle:\nGruppe A: 19:15 – 20:30\nLeitung: Siegfried & Inge Mayer-Hermann
URL:https://tsc-weiss-gold.de/event/tanztraining-mit-claudia-8/
LOCATION:Schulsporthalle Realschule Plus\, Neumayerstrasse 27\, Weisenheim am Berg\, 67273
END:VEVENT
BEGIN:VEVENT
DTSTART;TZID=Europe/Berlin:20260522T180000
DTEND;TZID=Europe/Berlin:20260522T214500
DTSTAMP:20260421T150920
CREATED:20251115T180406Z
LAST-MODIFIED:20251115T182728Z
UID:6601-1779472800-1779486300@tsc-weiss-gold.de
SUMMARY:Tanztraining in 4 Gruppen (3 mit Claudia)
DESCRIPTION:Große Halle:\nGruppe B: 18:00 – 19:15\nGruppe H: 19:15 – 20:30\nGruppe S: 20:30 – 21:45\nLeitung: Claudia Kleineheismann \nKleine Halle:\nGruppe A: 19:15 – 20:30\nLeitung: Siegfried & Inge Mayer-Hermann
URL:https://tsc-weiss-gold.de/event/tanztraining-mit-claudia-9/
LOCATION:Schulsporthalle Realschule Plus\, Neumayerstrasse 27\, Weisenheim am Berg\, 67273
END:VEVENT
BEGIN:VEVENT
DTSTART;TZID=Europe/Berlin:20260529T180000
DTEND;TZID=Europe/Berlin:20260529T214500
DTSTAMP:20260421T150920
CREATED:20251115T173512Z
LAST-MODIFIED:20251115T182622Z
UID:6545-1780077600-1780091100@tsc-weiss-gold.de
SUMMARY:Tanztraining in 4 Gruppen
DESCRIPTION:Große Halle:\nGruppe B: 18:00 – 19:15\nGruppe H: 19:15 – 20:30\nGruppe S: 20:30 – 21:45\nLeitung: Martin Stiewing \nKleine Halle:\nGruppe A: 19:15 – 20:30\nLeitung: Siegfried & Inge Mayer-Hermann
URL:https://tsc-weiss-gold.de/event/tanztraining-208/
LOCATION:Schulsporthalle Realschule Plus\, Neumayerstrasse 27\, Weisenheim am Berg\, 67273
END:VEVENT
BEGIN:VEVENT
DTSTART;TZID=Europe/Berlin:20260605T183000
DTEND;TZID=Europe/Berlin:20260605T213000
DTSTAMP:20260421T150920
CREATED:20251115T181039Z
LAST-MODIFIED:20251115T181250Z
UID:6607-1780684200-1780695000@tsc-weiss-gold.de
SUMMARY:Tanztraining in 2 Gruppen mit Martin und Michaela
DESCRIPTION:Große Halle:\nGruppe A + B   18:30 – 20:00 Uhr\nGruppe H + S  20:00 – 21:30 Uhr\nLeitung: Martin Stiewing
URL:https://tsc-weiss-gold.de/event/tanztraining-in-2-gruppen/
LOCATION:Schulsporthalle Realschule Plus\, Neumayerstrasse 27\, Weisenheim am Berg\, 67273
END:VEVENT
BEGIN:VEVENT
DTSTART;TZID=Europe/Berlin:20260606T150000
DTEND;TZID=Europe/Berlin:20260606T170000
DTSTAMP:20260421T150920
CREATED:20251115T170927Z
LAST-MODIFIED:20251115T170927Z
UID:6506-1780758000-1780765200@tsc-weiss-gold.de
SUMMARY:Freies Tanztraining
DESCRIPTION:Gemeinsames Tanzen aller Gruppen ohne Trainer.
URL:https://tsc-weiss-gold.de/event/freies-tanztraining-73/
LOCATION:Schulsporthalle Realschule Plus\, Neumayerstrasse 27\, Weisenheim am Berg\, 67273
END:VEVENT
BEGIN:VEVENT
DTSTART;TZID=Europe/Berlin:20260612T180000
DTEND;TZID=Europe/Berlin:20260612T214500
DTSTAMP:20260421T150920
CREATED:20251115T173551Z
LAST-MODIFIED:20251115T182526Z
UID:6547-1781287200-1781300700@tsc-weiss-gold.de
SUMMARY:Tanztraining in 4 Gruppen
DESCRIPTION:Große Halle:\nGruppe B: 18:00 – 19:15\nGruppe H: 19:15 – 20:30\nGruppe S: 20:30 – 21:45\nLeitung: Martin Stiewing \nKleine Halle:\nGruppe A: 19:15 – 20:30\nLeitung: Siegfried & Inge Mayer-Hermann
URL:https://tsc-weiss-gold.de/event/tanztraining-209/
LOCATION:Schulsporthalle Realschule Plus\, Neumayerstrasse 27\, Weisenheim am Berg\, 67273
END:VEVENT
BEGIN:VEVENT
DTSTART;TZID=Europe/Berlin:20260613T150000
DTEND;TZID=Europe/Berlin:20260613T170000
DTSTAMP:20260421T150920
CREATED:20260225T202625Z
LAST-MODIFIED:20260225T203445Z
UID:6934-1781362800-1781370000@tsc-weiss-gold.de
SUMMARY:Freies Tanzen mit Live-Musik von Ralf Keller
DESCRIPTION:Gemeinsames Tanzen aller Gruppen ohne Trainer nach Live-Musik von Ralf Keller
URL:https://tsc-weiss-gold.de/event/freies-tanzen-mit-live-musik-von-ralf-keller/
LOCATION:Schulsporthalle Realschule Plus\, Neumayerstrasse 27\, Weisenheim am Berg\, 67273
END:VEVENT
BEGIN:VEVENT
DTSTART;TZID=Europe/Berlin:20260619T180000
DTEND;TZID=Europe/Berlin:20260619T214500
DTSTAMP:20260421T150920
CREATED:20251115T173635Z
LAST-MODIFIED:20251115T182500Z
UID:6549-1781892000-1781905500@tsc-weiss-gold.de
SUMMARY:Tanztraining in 4 Gruppen
DESCRIPTION:Große Halle:\nGruppe B: 18:00 – 19:15\nGruppe H: 19:15 – 20:30\nGruppe S: 20:30 – 21:45\nLeitung: Martin Stiewing \nKleine Halle:\nGruppe A: 19:15 – 20:30\nLeitung: Siegfried & Inge Mayer-Hermann
URL:https://tsc-weiss-gold.de/event/tanztraining-210/
LOCATION:Schulsporthalle Realschule Plus\, Neumayerstrasse 27\, Weisenheim am Berg\, 67273
END:VEVENT
BEGIN:VEVENT
DTSTART;TZID=Europe/Berlin:20260620T180000
DTEND;TZID=Europe/Berlin:20260620T230000
DTSTAMP:20260421T150920
CREATED:20251115T185045Z
LAST-MODIFIED:20260322T164257Z
UID:6648-1781978400-1781996400@tsc-weiss-gold.de
SUMMARY:Sommerfest
DESCRIPTION:Alle Mitglieder sind herzlich eingeladen zum Sommerfest im Innenhof des Bürgerhauses von Weisenheim am Berg.
URL:https://tsc-weiss-gold.de/event/sommerfest-5/
LOCATION:Bürgerhaus\, Hauptstrasse 72\, Weisenheim am Berg\, 67273
END:VEVENT
BEGIN:VEVENT
DTSTART;TZID=Europe/Berlin:20260626T180000
DTEND;TZID=Europe/Berlin:20260626T214500
DTSTAMP:20260421T150920
CREATED:20251115T173705Z
LAST-MODIFIED:20251115T182437Z
UID:6551-1782496800-1782510300@tsc-weiss-gold.de
SUMMARY:Tanztraining in 4 Gruppen
DESCRIPTION:Große Halle:\nGruppe B: 18:00 – 19:15\nGruppe H: 19:15 – 20:30\nGruppe S: 20:30 – 21:45\nLeitung: Martin Stiewing \nKleine Halle:\nGruppe A: 19:15 – 20:30\nLeitung: Siegfried & Inge Mayer-Hermann
URL:https://tsc-weiss-gold.de/event/tanztraining-211/
LOCATION:Schulsporthalle Realschule Plus\, Neumayerstrasse 27\, Weisenheim am Berg\, 67273
END:VEVENT
BEGIN:VEVENT
DTSTART;TZID=Europe/Berlin:20260731T180000
DTEND;TZID=Europe/Berlin:20260731T214500
DTSTAMP:20260421T150920
CREATED:20251115T185429Z
LAST-MODIFIED:20251115T185429Z
UID:6652-1785520800-1785534300@tsc-weiss-gold.de
SUMMARY:Tanztraining in 4 Gruppen
DESCRIPTION:Große Halle:\nGruppe B: 18:00 – 19:15\nGruppe H: 19:15 – 20:30\nGruppe S: 20:30 – 21:45\nLeitung: Martin Stiewing \nKleine Halle:\nGruppe A: 19:15 – 20:30\nLeitung: Siegfried & Inge Mayer-Hermann
URL:https://tsc-weiss-gold.de/event/tanztraining-in-4-gruppen/
LOCATION:Schulsporthalle Realschule Plus\, Neumayerstrasse 27\, Weisenheim am Berg\, 67273
END:VEVENT
BEGIN:VEVENT
DTSTART;TZID=Europe/Berlin:20260807T180000
DTEND;TZID=Europe/Berlin:20260807T214500
DTSTAMP:20260421T150920
CREATED:20251115T173745Z
LAST-MODIFIED:20251115T182410Z
UID:6553-1786125600-1786139100@tsc-weiss-gold.de
SUMMARY:Tanztraining in 4 Gruppen
DESCRIPTION:Große Halle:\nGruppe B: 18:00 – 19:15\nGruppe H: 19:15 – 20:30\nGruppe S: 20:30 – 21:45\nLeitung: Martin Stiewing \nKleine Halle:\nGruppe A: 19:15 – 20:30\nLeitung: Siegfried & Inge Mayer-Hermann
URL:https://tsc-weiss-gold.de/event/tanztraining-212/
LOCATION:Schulsporthalle Realschule Plus\, Neumayerstrasse 27\, Weisenheim am Berg\, 67273
END:VEVENT
BEGIN:VEVENT
DTSTART;TZID=Europe/Berlin:20260808T150000
DTEND;TZID=Europe/Berlin:20260808T170000
DTSTAMP:20260421T150920
CREATED:20251115T170959Z
LAST-MODIFIED:20251115T170959Z
UID:6508-1786201200-1786208400@tsc-weiss-gold.de
SUMMARY:Freies Tanztraining
DESCRIPTION:Gemeinsames Tanzen aller Gruppen ohne Trainer.
URL:https://tsc-weiss-gold.de/event/freies-tanztraining-74/
LOCATION:Schulsporthalle Realschule Plus\, Neumayerstrasse 27\, Weisenheim am Berg\, 67273
END:VEVENT
BEGIN:VEVENT
DTSTART;TZID=Europe/Berlin:20260814T180000
DTEND;TZID=Europe/Berlin:20260814T214500
DTSTAMP:20260421T150920
CREATED:20251115T173900Z
LAST-MODIFIED:20251115T182345Z
UID:6555-1786730400-1786743900@tsc-weiss-gold.de
SUMMARY:Tanztraining in 4 Gruppen
DESCRIPTION:Große Halle:\nGruppe B: 18:00 – 19:15\nGruppe H: 19:15 – 20:30\nGruppe S: 20:30 – 21:45\nLeitung: Martin Stiewing \nKleine Halle:\nGruppe A: 19:15 – 20:30\nLeitung: Siegfried & Inge Mayer-Hermann
URL:https://tsc-weiss-gold.de/event/tanztraining-213/
LOCATION:Schulsporthalle Realschule Plus\, Neumayerstrasse 27\, Weisenheim am Berg\, 67273
END:VEVENT
BEGIN:VEVENT
DTSTART;TZID=Europe/Berlin:20260821T180000
DTEND;TZID=Europe/Berlin:20260821T214500
DTSTAMP:20260421T150920
CREATED:20251115T173930Z
LAST-MODIFIED:20251115T182323Z
UID:6557-1787335200-1787348700@tsc-weiss-gold.de
SUMMARY:Tanztraining in 4 Gruppen
DESCRIPTION:Große Halle:\nGruppe B: 18:00 – 19:15\nGruppe H: 19:15 – 20:30\nGruppe S: 20:30 – 21:45\nLeitung: Martin Stiewing \nKleine Halle:\nGruppe A: 19:15 – 20:30\nLeitung: Siegfried & Inge Mayer-Hermann
URL:https://tsc-weiss-gold.de/event/tanztraining-214/
LOCATION:Schulsporthalle Realschule Plus\, Neumayerstrasse 27\, Weisenheim am Berg\, 67273
END:VEVENT
BEGIN:VEVENT
DTSTART;TZID=Europe/Berlin:20260828T180000
DTEND;TZID=Europe/Berlin:20260828T214500
DTSTAMP:20260421T150920
CREATED:20251115T174010Z
LAST-MODIFIED:20251115T182301Z
UID:6559-1787940000-1787953500@tsc-weiss-gold.de
SUMMARY:Tanztraining in 4 Gruppen
DESCRIPTION:Große Halle:\nGruppe B: 18:00 – 19:15\nGruppe H: 19:15 – 20:30\nGruppe S: 20:30 – 21:45\nLeitung: Martin Stiewing \nKleine Halle:\nGruppe A: 19:15 – 20:30\nLeitung: Siegfried & Inge Mayer-Hermann
URL:https://tsc-weiss-gold.de/event/tanztraining-215/
LOCATION:Schulsporthalle Realschule Plus\, Neumayerstrasse 27\, Weisenheim am Berg\, 67273
END:VEVENT
BEGIN:VEVENT
DTSTART;TZID=Europe/Berlin:20260904T180000
DTEND;TZID=Europe/Berlin:20260904T214500
DTSTAMP:20260421T150920
CREATED:20251115T174101Z
LAST-MODIFIED:20251115T182237Z
UID:6561-1788544800-1788558300@tsc-weiss-gold.de
SUMMARY:Tanztraining in 4 Gruppen
DESCRIPTION:Große Halle:\nGruppe B: 18:00 – 19:15\nGruppe H: 19:15 – 20:30\nGruppe S: 20:30 – 21:45\nLeitung: Martin Stiewing \nKleine Halle:\nGruppe A: 19:15 – 20:30\nLeitung: Siegfried & Inge Mayer-Hermann
URL:https://tsc-weiss-gold.de/event/tanztraining-216/
LOCATION:Schulsporthalle Realschule Plus\, Neumayerstrasse 27\, Weisenheim am Berg\, 67273
END:VEVENT
BEGIN:VEVENT
DTSTART;TZID=Europe/Berlin:20260905T150000
DTEND;TZID=Europe/Berlin:20260905T170000
DTSTAMP:20260421T150920
CREATED:20251115T171031Z
LAST-MODIFIED:20251115T171031Z
UID:6510-1788620400-1788627600@tsc-weiss-gold.de
SUMMARY:Freies Tanztraining
DESCRIPTION:Gemeinsames Tanzen aller Gruppen ohne Trainer.
URL:https://tsc-weiss-gold.de/event/freies-tanztraining-75/
LOCATION:Schulsporthalle Realschule Plus\, Neumayerstrasse 27\, Weisenheim am Berg\, 67273
END:VEVENT
BEGIN:VEVENT
DTSTART;TZID=Europe/Berlin:20260911T180000
DTEND;TZID=Europe/Berlin:20260911T214500
DTSTAMP:20260421T150920
CREATED:20251115T180534Z
LAST-MODIFIED:20251115T182212Z
UID:6603-1789149600-1789163100@tsc-weiss-gold.de
SUMMARY:Tanztraining  in 4 Gruppen (3 mit Claudia ?)
DESCRIPTION:Große Halle:\nGruppe B: 18:00 – 19:15\nGruppe H: 19:15 – 20:30\nGruppe S: 20:30 – 21:45\nLeitung: Claudia Kleineheismann \nKleine Halle:\nGruppe A: 19:15 – 20:30\nLeitung: Siegfried & Inge Mayer-Hermann
URL:https://tsc-weiss-gold.de/event/tanztraining-mit-claudia-10/
LOCATION:Schulsporthalle Realschule Plus\, Neumayerstrasse 27\, Weisenheim am Berg\, 67273
END:VEVENT
BEGIN:VEVENT
DTSTART;TZID=Europe/Berlin:20260918T183000
DTEND;TZID=Europe/Berlin:20260918T213000
DTSTAMP:20260421T150920
CREATED:20260215T122643Z
LAST-MODIFIED:20260215T122643Z
UID:6901-1789756200-1789767000@tsc-weiss-gold.de
SUMMARY:Workshop mit Andreas und Martina Krug
DESCRIPTION:Workshop mit Andreas und Martina Krug \n18:30 – 20:00 Uhr Gruppen A+B\n20:00 – 21:30 Uhr Gruppen H+S
URL:https://tsc-weiss-gold.de/event/workshop-mit-andreas-und-martina-krug/
LOCATION:Schulsporthalle Realschule Plus\, Neumayerstrasse 27\, Weisenheim am Berg\, 67273
END:VEVENT
BEGIN:VEVENT
DTSTART;TZID=Europe/Berlin:20260925T180000
DTEND;TZID=Europe/Berlin:20260925T214500
DTSTAMP:20260421T150920
CREATED:20251115T174147Z
LAST-MODIFIED:20251115T182130Z
UID:6563-1790359200-1790372700@tsc-weiss-gold.de
SUMMARY:Tanztraining in 4 Gruppen
DESCRIPTION:Große Halle:\nGruppe B: 18:00 – 19:15\nGruppe H: 19:15 – 20:30\nGruppe S: 20:30 – 21:45\nLeitung: Martin Stiewing \nKleine Halle:\nGruppe A: 19:15 – 20:30\nLeitung: Siegfried & Inge Mayer-Hermann
URL:https://tsc-weiss-gold.de/event/tanztraining-217/
LOCATION:Schulsporthalle Realschule Plus\, Neumayerstrasse 27\, Weisenheim am Berg\, 67273
END:VEVENT
BEGIN:VEVENT
DTSTART;TZID=Europe/Berlin:20260926T110000
DTEND;TZID=Europe/Berlin:20260926T150000
DTSTAMP:20260421T150920
CREATED:20260215T122832Z
LAST-MODIFIED:20260215T122832Z
UID:6903-1790420400-1790434800@tsc-weiss-gold.de
SUMMARY:Herbstwanderung
DESCRIPTION:Ort und Zeit werden noch bekanntgegeben
URL:https://tsc-weiss-gold.de/event/herbstwanderung-7/
END:VEVENT
BEGIN:VEVENT
DTSTART;TZID=Europe/Berlin:20261002T180000
DTEND;TZID=Europe/Berlin:20261002T214500
DTSTAMP:20260421T150920
CREATED:20251115T174229Z
LAST-MODIFIED:20251115T182057Z
UID:6565-1790964000-1790977500@tsc-weiss-gold.de
SUMMARY:Tanztraining in 4 Gruppen
DESCRIPTION:Große Halle:\nGruppe B: 18:00 – 19:15\nGruppe H: 19:15 – 20:30\nGruppe S: 20:30 – 21:45\nLeitung: Martin Stiewing \nKleine Halle:\nGruppe A: 19:15 – 20:30\nLeitung: Siegfried & Inge Mayer-Hermann
URL:https://tsc-weiss-gold.de/event/tanztraining-218/
LOCATION:Schulsporthalle Realschule Plus\, Neumayerstrasse 27\, Weisenheim am Berg\, 67273
END:VEVENT
BEGIN:VEVENT
DTSTART;TZID=Europe/Berlin:20261009T183000
DTEND;TZID=Europe/Berlin:20261009T213000
DTSTAMP:20260421T150920
CREATED:20251115T174308Z
LAST-MODIFIED:20260215T123628Z
UID:6567-1791570600-1791581400@tsc-weiss-gold.de
SUMMARY:Tanztraining in Bobenheim am Berg
DESCRIPTION:Da die Schulsporthalle geschlossen ist\, wird das Training in der Sporthalle des Turnvereins Bobenheim am Berg stattfinden:\nGruppen A+B: 18:30 – 20:00 Uhr\nGruppen H+S: 20:00 – 21:30 Uhr\nLeitung: Martin und Michaela\nOrt: Jahnstraße 2a\, 67273 Bobenheim am Berg
URL:https://tsc-weiss-gold.de/event/tanztraining-219/
LOCATION:Bobenheim am Berg\, Jahnstraße 2a\, Bobenheim am Berg\, 67273
END:VEVENT
BEGIN:VEVENT
DTSTART;TZID=Europe/Berlin:20261010T150000
DTEND;TZID=Europe/Berlin:20261010T170000
DTSTAMP:20260421T150920
CREATED:20251115T171151Z
LAST-MODIFIED:20251115T171151Z
UID:6515-1791644400-1791651600@tsc-weiss-gold.de
SUMMARY:Freies Tanztraining
DESCRIPTION:Gemeinsames Tanzen aller Gruppen ohne Trainer.
URL:https://tsc-weiss-gold.de/event/freies-tanztraining-76/
LOCATION:Schulsporthalle Realschule Plus\, Neumayerstrasse 27\, Weisenheim am Berg\, 67273
END:VEVENT
BEGIN:VEVENT
DTSTART;TZID=Europe/Berlin:20261016T180000
DTEND;TZID=Europe/Berlin:20261016T214500
DTSTAMP:20260421T150920
CREATED:20251115T174345Z
LAST-MODIFIED:20251115T182005Z
UID:6569-1792173600-1792187100@tsc-weiss-gold.de
SUMMARY:Tanztraining in 4 Gruppen
DESCRIPTION:Große Halle:\nGruppe B: 18:00 – 19:15\nGruppe H: 19:15 – 20:30\nGruppe S: 20:30 – 21:45\nLeitung: Martin Stiewing \nKleine Halle:\nGruppe A: 19:15 – 20:30\nLeitung: Siegfried & Inge Mayer-Hermann
URL:https://tsc-weiss-gold.de/event/tanztraining-220/
LOCATION:Schulsporthalle Realschule Plus\, Neumayerstrasse 27\, Weisenheim am Berg\, 67273
END:VEVENT
END:VCALENDAR