BEGIN:VCALENDAR
VERSION:2.0
PRODID:-//Tanzsportclub Weiß-Gold - ECPv6.15.20//NONSGML v1.0//EN
CALSCALE:GREGORIAN
METHOD:PUBLISH
X-WR-CALNAME:Tanzsportclub Weiß-Gold
X-ORIGINAL-URL:https://tsc-weiss-gold.de
X-WR-CALDESC:Veranstaltungen für Tanzsportclub Weiß-Gold
REFRESH-INTERVAL;VALUE=DURATION:PT1H
X-Robots-Tag:noindex
X-PUBLISHED-TTL:PT1H
BEGIN:VTIMEZONE
TZID:Europe/Berlin
BEGIN:DAYLIGHT
TZOFFSETFROM:+0100
TZOFFSETTO:+0200
TZNAME:CEST
DTSTART:20240331T010000
END:DAYLIGHT
BEGIN:STANDARD
TZOFFSETFROM:+0200
TZOFFSETTO:+0100
TZNAME:CET
DTSTART:20241027T010000
END:STANDARD
BEGIN:DAYLIGHT
TZOFFSETFROM:+0100
TZOFFSETTO:+0200
TZNAME:CEST
DTSTART:20250330T010000
END:DAYLIGHT
BEGIN:STANDARD
TZOFFSETFROM:+0200
TZOFFSETTO:+0100
TZNAME:CET
DTSTART:20251026T010000
END:STANDARD
BEGIN:DAYLIGHT
TZOFFSETFROM:+0100
TZOFFSETTO:+0200
TZNAME:CEST
DTSTART:20260329T010000
END:DAYLIGHT
BEGIN:STANDARD
TZOFFSETFROM:+0200
TZOFFSETTO:+0100
TZNAME:CET
DTSTART:20261025T010000
END:STANDARD
BEGIN:DAYLIGHT
TZOFFSETFROM:+0100
TZOFFSETTO:+0200
TZNAME:CEST
DTSTART:20270328T010000
END:DAYLIGHT
BEGIN:STANDARD
TZOFFSETFROM:+0200
TZOFFSETTO:+0100
TZNAME:CET
DTSTART:20271031T010000
END:STANDARD
END:VTIMEZONE
BEGIN:VEVENT
DTSTART;TZID=Europe/Berlin:20260418T150000
DTEND;TZID=Europe/Berlin:20260418T170000
DTSTAMP:20260421T150553
CREATED:20260110T125712Z
LAST-MODIFIED:20260110T125712Z
UID:6829-1776524400-1776531600@tsc-weiss-gold.de
SUMMARY:Üben für DTSA
DESCRIPTION:
URL:https://tsc-weiss-gold.de/event/ueben-fuer-dtsa/
LOCATION:Schulsporthalle Realschule Plus\, Neumayerstrasse 27\, Weisenheim am Berg\, 67273
END:VEVENT
BEGIN:VEVENT
DTSTART;TZID=Europe/Berlin:20260417T180000
DTEND;TZID=Europe/Berlin:20260417T214500
DTSTAMP:20260421T150553
CREATED:20251115T173202Z
LAST-MODIFIED:20251115T182959Z
UID:6539-1776448800-1776462300@tsc-weiss-gold.de
SUMMARY:Tanztraining in 4 Gruppen
DESCRIPTION:Große Halle:\nGruppe B: 18:00 – 19:15\nGruppe H: 19:15 – 20:30\nGruppe S: 20:30 – 21:45\nLeitung: Martin Stiewing \nKleine Halle:\nGruppe A: 19:15 – 20:30\nLeitung: Siegfried & Inge Mayer-Hermann
URL:https://tsc-weiss-gold.de/event/tanztraining-205/
LOCATION:Schulsporthalle Realschule Plus\, Neumayerstrasse 27\, Weisenheim am Berg\, 67273
END:VEVENT
BEGIN:VEVENT
DTSTART;TZID=Europe/Berlin:20260411T150000
DTEND;TZID=Europe/Berlin:20260411T170000
DTSTAMP:20260421T150553
CREATED:20251115T170809Z
LAST-MODIFIED:20251115T170809Z
UID:6502-1775919600-1775926800@tsc-weiss-gold.de
SUMMARY:Freies Tanztraining
DESCRIPTION:Gemeinsames Tanzen aller Gruppen ohne Trainer.
URL:https://tsc-weiss-gold.de/event/freies-tanztraining-71/
LOCATION:Schulsporthalle Realschule Plus\, Neumayerstrasse 27\, Weisenheim am Berg\, 67273
END:VEVENT
BEGIN:VEVENT
DTSTART;TZID=Europe/Berlin:20260327T180000
DTEND;TZID=Europe/Berlin:20260327T214500
DTSTAMP:20260421T150553
CREATED:20251115T173121Z
LAST-MODIFIED:20251115T183059Z
UID:6537-1774634400-1774647900@tsc-weiss-gold.de
SUMMARY:Tanztraining in 4 Gruppen
DESCRIPTION:Große Halle:\nGruppe B: 18:00 – 19:15\nGruppe H: 19:15 – 20:30\nGruppe S: 20:30 – 21:45\nLeitung: Martin Stiewing \nKleine Halle:\nGruppe A: 19:15 – 20:30\nLeitung: Siegfried & Inge Mayer-Hermann
URL:https://tsc-weiss-gold.de/event/tanztraining-204/
LOCATION:Schulsporthalle Realschule Plus\, Neumayerstrasse 27\, Weisenheim am Berg\, 67273
END:VEVENT
BEGIN:VEVENT
DTSTART;TZID=Europe/Berlin:20260320T180000
DTEND;TZID=Europe/Berlin:20260320T214500
DTSTAMP:20260421T150553
CREATED:20251115T173051Z
LAST-MODIFIED:20251115T183131Z
UID:6535-1774029600-1774043100@tsc-weiss-gold.de
SUMMARY:Tanztraining in 4 Gruppen
DESCRIPTION:Große Halle:\nGruppe B: 18:00 – 19:15\nGruppe H: 19:15 – 20:30\nGruppe S: 20:30 – 21:45\nLeitung: Martin Stiewing \nKleine Halle:\nGruppe A: 19:15 – 20:30\nLeitung: Siegfried & Inge Mayer-Hermann
URL:https://tsc-weiss-gold.de/event/tanztraining-203/
LOCATION:Schulsporthalle Realschule Plus\, Neumayerstrasse 27\, Weisenheim am Berg\, 67273
END:VEVENT
BEGIN:VEVENT
DTSTART;TZID=Europe/Berlin:20260317T193000
DTEND;TZID=Europe/Berlin:20260317T220000
DTSTAMP:20260421T150553
CREATED:20260215T122108Z
LAST-MODIFIED:20260215T122108Z
UID:6899-1773775800-1773784800@tsc-weiss-gold.de
SUMMARY:Mitgliederversammlung
DESCRIPTION:Einladung zur Jahres-Mitgliederversammlung 2026 \nDienstag 17. März 2026\nBeginn 19.30 Uhr\nOrt Bürgerhaus Weisenheim am Berg\, Hauptstraße 72\, Bürgersaal \nLiebe Tanzsportfreundinnen und -freunde\, \nwir laden euch herzlich ein zur Mitgliederversammlung (Jahreshauptversammlung) 2026 des TSC Weiß-Gold Weisenheim am Berg e.V. und freuen uns über ein zahlreiches Erscheinen. \nTagesordnung\n1. Begrüßung\n2. Feststellung der ordnungsgemäßen Ladung und Beschlussfähigkeit\n3. Genehmigung der Tagesordnung\n4. Bericht der Präsidentin\n5. Bericht des Sportwarts\n6. Kassenbericht\n7. Bericht der Kassenprüfer\n8. Entlastung des Präsidiums\n9. Neuwahl des Präsidiums\n10. Neuwahl der Kassenprüfer\n11. Herbstwanderung\n12. Verschiedenes \nMit freundlichen Grüßen\ngez. Irmtraud Heym\, Präsidentin                       gez. Wolfgang Utech\, Vizepräsident
URL:https://tsc-weiss-gold.de/event/mitgliederversammlung-2/
LOCATION:Bürgerhaus\, Hauptstrasse 72\, Weisenheim am Berg\, 67273
END:VEVENT
BEGIN:VEVENT
DTSTART;TZID=Europe/Berlin:20260314T180000
DTEND;TZID=Europe/Berlin:20260314T180000
DTSTAMP:20260421T150553
CREATED:20251115T175642Z
LAST-MODIFIED:20251115T175642Z
UID:6591-1773511200-1773511200@tsc-weiss-gold.de
SUMMARY:Tanzsportseminar in Weisenheim am Berg
DESCRIPTION:Programm in Ausarbeitung.
URL:https://tsc-weiss-gold.de/event/tanzsportseminar-in-weisenheim-am-berg-6/
LOCATION:Schulsporthalle Realschule Plus\, Neumayerstrasse 27\, Weisenheim am Berg\, 67273
END:VEVENT
BEGIN:VEVENT
DTSTART;TZID=Europe/Berlin:20260313T180000
DTEND;TZID=Europe/Berlin:20260313T220000
DTSTAMP:20260421T150553
CREATED:20251115T175537Z
LAST-MODIFIED:20251115T175537Z
UID:6589-1773424800-1773439200@tsc-weiss-gold.de
SUMMARY:Tanzsportseminar in Weisenheim am Berg
DESCRIPTION:Programm in Ausarbeitung.
URL:https://tsc-weiss-gold.de/event/tanzsportseminar-in-weisenheim-am-berg-5/
LOCATION:Schulsporthalle Realschule Plus\, Neumayerstrasse 27\, Weisenheim am Berg\, 67273
END:VEVENT
BEGIN:VEVENT
DTSTART;TZID=Europe/Berlin:20260307T150000
DTEND;TZID=Europe/Berlin:20260307T170000
DTSTAMP:20260421T150553
CREATED:20251115T170620Z
LAST-MODIFIED:20251115T170706Z
UID:6498-1772895600-1772902800@tsc-weiss-gold.de
SUMMARY:Freies Tanztraining
DESCRIPTION:Gemeinsames Tanzen aller Gruppen ohne Trainer.
URL:https://tsc-weiss-gold.de/event/freies-tanztraining-68/
LOCATION:Schulsporthalle Realschule Plus\, Neumayerstrasse 27\, Weisenheim am Berg\, 67273
END:VEVENT
BEGIN:VEVENT
DTSTART;TZID=Europe/Berlin:20260306T180000
DTEND;TZID=Europe/Berlin:20260306T214500
DTSTAMP:20260421T150553
CREATED:20251115T173007Z
LAST-MODIFIED:20251115T183214Z
UID:6533-1772820000-1772833500@tsc-weiss-gold.de
SUMMARY:Tanztraining in 4 Gruppen
DESCRIPTION:Große Halle:\nGruppe B: 18:00 – 19:15\nGruppe H: 19:15 – 20:30\nGruppe S: 20:30 – 21:45\nLeitung: Martin Stiewing \nKleine Halle:\nGruppe A: 19:15 – 20:30\nLeitung: Siegfried & Inge Mayer-Hermann
URL:https://tsc-weiss-gold.de/event/tanztraining-202/
LOCATION:Schulsporthalle Realschule Plus\, Neumayerstrasse 27\, Weisenheim am Berg\, 67273
END:VEVENT
BEGIN:VEVENT
DTSTART;TZID=Europe/Berlin:20260227T180000
DTEND;TZID=Europe/Berlin:20260227T214500
DTSTAMP:20260421T150553
CREATED:20251115T172930Z
LAST-MODIFIED:20251115T183245Z
UID:6531-1772215200-1772228700@tsc-weiss-gold.de
SUMMARY:Tanztraining in 4 Gruppen
DESCRIPTION:Große Halle:\nGruppe B: 18:00 – 19:15\nGruppe H: 19:15 – 20:30\nGruppe S: 20:30 – 21:45\nLeitung: Martin Stiewing \nKleine Halle:\nGruppe A: 19:15 – 20:30\nLeitung: Siegfried & Inge Mayer-Hermann
URL:https://tsc-weiss-gold.de/event/tanztraining-201/
LOCATION:Schulsporthalle Realschule Plus\, Neumayerstrasse 27\, Weisenheim am Berg\, 67273
END:VEVENT
BEGIN:VEVENT
DTSTART;TZID=Europe/Berlin:20260221T150000
DTEND;TZID=Europe/Berlin:20260221T170000
DTSTAMP:20260421T150553
CREATED:20260110T121506Z
LAST-MODIFIED:20260110T121655Z
UID:6823-1771686000-1771693200@tsc-weiss-gold.de
SUMMARY:Workshop Jive
DESCRIPTION:Am Samstag\, 21.02.2026 von 15:00 – 17:00 Uhr findet in der großen Schulsporthalle in Weisenheim am Berg ein Workshop Jive unter Leitung von Sarah Knapp statt.\nAlle Mitglieder des TSC sind herzlich eingeladen. Für die Teilnahme wird ein Kostenbeitrag von 10 €/Paar erhoben.\nAnmeldung bitte per E-Mail an: info@tsc-weiss-gold.de
URL:https://tsc-weiss-gold.de/event/workshop-jive/
LOCATION:Schulsporthalle Realschule Plus\, Neumayerstrasse 27\, Weisenheim am Berg\, 67273
END:VEVENT
BEGIN:VEVENT
DTSTART;TZID=Europe/Berlin:20260220T180000
DTEND;TZID=Europe/Berlin:20260220T214500
DTSTAMP:20260421T150553
CREATED:20251115T172852Z
LAST-MODIFIED:20251115T183314Z
UID:6529-1771610400-1771623900@tsc-weiss-gold.de
SUMMARY:Tanztraining in 4 Gruppen
DESCRIPTION:Große Halle:\nGruppe B: 18:00 – 19:15\nGruppe H: 19:15 – 20:30\nGruppe S: 20:30 – 21:45\nLeitung: Martin Stiewing \nKleine Halle:\nGruppe A: 19:15 – 20:30\nLeitung: Siegfried & Inge Mayer-Hermann
URL:https://tsc-weiss-gold.de/event/tanztraining-200/
LOCATION:Schulsporthalle Realschule Plus\, Neumayerstrasse 27\, Weisenheim am Berg\, 67273
END:VEVENT
BEGIN:VEVENT
DTSTART;TZID=Europe/Berlin:20260213T183000
DTEND;TZID=Europe/Berlin:20260213T200000
DTSTAMP:20260421T150553
CREATED:20251115T175123Z
LAST-MODIFIED:20260207T124534Z
UID:6585-1771007400-1771012800@tsc-weiss-gold.de
SUMMARY:Faschingstanzen mit Inge & Siggi
DESCRIPTION:Gemeinsames Tanzen aller Gruppen. Verkleidung erwünscht.\nDanach Auftritt der „Social Dancing“ Bad Dürkheim.\nAnschließend: Spontan-Buffet.
URL:https://tsc-weiss-gold.de/event/faschingstanzen-mit-inge-siggi/
END:VEVENT
BEGIN:VEVENT
DTSTART;TZID=Europe/Berlin:20260207T150000
DTEND;TZID=Europe/Berlin:20260207T170000
DTSTAMP:20260421T150553
CREATED:20251115T170736Z
LAST-MODIFIED:20251115T170736Z
UID:6500-1770476400-1770483600@tsc-weiss-gold.de
SUMMARY:Freies Tanztraining
DESCRIPTION:Gemeinsames Tanzen aller Gruppen ohne Trainer.
URL:https://tsc-weiss-gold.de/event/freies-tanztraining-69/
LOCATION:Schulsporthalle Realschule Plus\, Neumayerstrasse 27\, Weisenheim am Berg\, 67273
END:VEVENT
BEGIN:VEVENT
DTSTART;TZID=Europe/Berlin:20260206T180000
DTEND;TZID=Europe/Berlin:20260206T214500
DTSTAMP:20260421T150553
CREATED:20251115T172700Z
LAST-MODIFIED:20251115T183404Z
UID:6527-1770400800-1770414300@tsc-weiss-gold.de
SUMMARY:Tanztraining in 4 Gruppen
DESCRIPTION:Große Halle:\nGruppe B: 18:00 – 19:15\nGruppe H: 19:15 – 20:30\nGruppe S: 20:30 – 21:45\nLeitung: Martin Stiewing \nKleine Halle:\nGruppe A: 19:15 – 20:30\nLeitung: Siegfried & Inge Mayer-Hermann
URL:https://tsc-weiss-gold.de/event/tanztraining-199/
LOCATION:Schulsporthalle Realschule Plus\, Neumayerstrasse 27\, Weisenheim am Berg\, 67273
END:VEVENT
BEGIN:VEVENT
DTSTART;TZID=Europe/Berlin:20260130T180000
DTEND;TZID=Europe/Berlin:20260130T214500
DTSTAMP:20260421T150553
CREATED:20251115T172508Z
LAST-MODIFIED:20251115T183453Z
UID:6525-1769796000-1769809500@tsc-weiss-gold.de
SUMMARY:Tanztraining in 4 Gruppen
DESCRIPTION:Große Halle:\nGruppe B: 18:00 – 19:15\nGruppe H: 19:15 – 20:30\nGruppe S: 20:30 – 21:45\nLeitung: Martin Stiewing \nKleine Halle:\nGruppe A: 19:15 – 20:30\nLeitung: Siegfried & Inge Mayer-Hermann
URL:https://tsc-weiss-gold.de/event/tanztraining-189/
LOCATION:Schulsporthalle Realschule Plus\, Neumayerstrasse 27\, Weisenheim am Berg\, 67273
END:VEVENT
BEGIN:VEVENT
DTSTART;TZID=Europe/Berlin:20260123T180000
DTEND;TZID=Europe/Berlin:20260123T214500
DTSTAMP:20260421T150553
CREATED:20251115T180049Z
LAST-MODIFIED:20260124T132333Z
UID:6595-1769191200-1769204700@tsc-weiss-gold.de
SUMMARY:Tanztraining in 4 Gruppen
DESCRIPTION:Große Halle:\nGruppe B: 18:00 – 19:15\nGruppe H: 19:15 – 20:30\nGruppe S: 20:30 – 21:45\nLeitung: Martin Stiewing \nKleine Halle:\nGruppe A: 19:15 – 20:30\nLeitung: Siegfried & Inge Mayer-Hermann
URL:https://tsc-weiss-gold.de/event/tanztraining-mit-claudia-6/
LOCATION:Schulsporthalle Realschule Plus\, Neumayerstrasse 27\, Weisenheim am Berg\, 67273
END:VEVENT
BEGIN:VEVENT
DTSTART;TZID=Europe/Berlin:20260116T183000
DTEND;TZID=Europe/Berlin:20260116T213000
DTSTAMP:20260421T150553
CREATED:20251115T171744Z
LAST-MODIFIED:20251115T181413Z
UID:6519-1768588200-1768599000@tsc-weiss-gold.de
SUMMARY:Tanztraining in 2 Gruppen mit Inge & Siggi
DESCRIPTION:Große Halle:\nGruppe A + B   18:30 – 20:00 Uhr\nGruppe H + S  20:00 – 21:30 Uhr\nLeitung: Inge und Siggi Mayer-Hermann\nDiscofox und Night Club Two Step
URL:https://tsc-weiss-gold.de/event/tanztraining-mit-inge-siggi/
LOCATION:Schulsporthalle Realschule Plus\, Neumayerstrasse 27\, Weisenheim am Berg\, 67273
END:VEVENT
BEGIN:VEVENT
DTSTART;TZID=Europe/Berlin:20260110T150000
DTEND;TZID=Europe/Berlin:20260110T170000
DTSTAMP:20260421T150553
CREATED:20250907T105750Z
LAST-MODIFIED:20250907T105750Z
UID:6432-1768057200-1768064400@tsc-weiss-gold.de
SUMMARY:Freies Tanztraining
DESCRIPTION:Gemeinsames Tanzen aller Gruppen ohne Trainer.
URL:https://tsc-weiss-gold.de/event/freies-tanztraining-70/
LOCATION:Schulsporthalle Realschule Plus\, Neumayerstrasse 27\, Weisenheim am Berg\, 67273
END:VEVENT
BEGIN:VEVENT
DTSTART;TZID=Europe/Berlin:20260109T183000
DTEND;TZID=Europe/Berlin:20260109T200000
DTSTAMP:20260421T150553
CREATED:20250907T105246Z
LAST-MODIFIED:20250907T105246Z
UID:6426-1767983400-1767988800@tsc-weiss-gold.de
SUMMARY:Neujahrstanzen
DESCRIPTION:Alle Gruppen tanzen gemeinsam.\nAnschließend der übliche Stehempfang …
URL:https://tsc-weiss-gold.de/event/neujahrstanzen-3/
LOCATION:Schulsporthalle Realschule Plus\, Neumayerstrasse 27\, Weisenheim am Berg\, 67273
END:VEVENT
BEGIN:VEVENT
DTSTART;TZID=Europe/Berlin:20251219T183000
DTEND;TZID=Europe/Berlin:20251219T200000
DTSTAMP:20260421T150553
CREATED:20250605T135228Z
LAST-MODIFIED:20250605T135228Z
UID:6371-1766169000-1766174400@tsc-weiss-gold.de
SUMMARY:Weihnachtstanzen
DESCRIPTION:Alle Gruppentanzen gemeinsam.\nAnschließend der übliche Stehempfang …
URL:https://tsc-weiss-gold.de/event/weihnachtstanzen-3/
LOCATION:Schulsporthalle Realschule Plus\, Neumayerstrasse 27\, Weisenheim am Berg\, 67273
END:VEVENT
BEGIN:VEVENT
DTSTART;TZID=Europe/Berlin:20251212T180000
DTEND;TZID=Europe/Berlin:20251212T214500
DTSTAMP:20260421T150553
CREATED:20250605T132052Z
LAST-MODIFIED:20250605T132052Z
UID:6348-1765562400-1765575900@tsc-weiss-gold.de
SUMMARY:Tanztraining
DESCRIPTION:Große Halle:\nGruppe B: 18:00 – 19:15\nGruppe H: 19:15 – 20:30\nGruppe S: 20:30 – 21:45\nLeitung: Martin Stiewing \nKleine Halle:\nGruppe A: 19:15 – 20:30\nLeitung: Siegfried & Inge Mayer-Hermann
URL:https://tsc-weiss-gold.de/event/tanztraining-196/
LOCATION:Schulsporthalle Realschule Plus\, Neumayerstrasse 27\, Weisenheim am Berg\, 67273
END:VEVENT
BEGIN:VEVENT
DTSTART;TZID=Europe/Berlin:20251206T180000
DTEND;TZID=Europe/Berlin:20251206T230000
DTSTAMP:20260421T150553
CREATED:20250605T134736Z
LAST-MODIFIED:20250611T152605Z
UID:6369-1765044000-1765062000@tsc-weiss-gold.de
SUMMARY:Jahresabschlussfeier
DESCRIPTION:Restaurant „Zum Alten Kelterhaus“\nWeinstrasse 118\n67169 Kallstadt
URL:https://tsc-weiss-gold.de/event/jahresabschlussfeier-3/
END:VEVENT
BEGIN:VEVENT
DTSTART;TZID=Europe/Berlin:20251205T180000
DTEND;TZID=Europe/Berlin:20251205T214500
DTSTAMP:20260421T150553
CREATED:20250605T132024Z
LAST-MODIFIED:20250605T132024Z
UID:6346-1764957600-1764971100@tsc-weiss-gold.de
SUMMARY:Tanztraining
DESCRIPTION:Große Halle:\nGruppe B: 18:00 – 19:15\nGruppe H: 19:15 – 20:30\nGruppe S: 20:30 – 21:45\nLeitung: Martin Stiewing \nKleine Halle:\nGruppe A: 19:15 – 20:30\nLeitung: Siegfried & Inge Mayer-Hermann
URL:https://tsc-weiss-gold.de/event/tanztraining-195/
LOCATION:Schulsporthalle Realschule Plus\, Neumayerstrasse 27\, Weisenheim am Berg\, 67273
END:VEVENT
BEGIN:VEVENT
DTSTART;TZID=Europe/Berlin:20251129T150000
DTEND;TZID=Europe/Berlin:20251129T170000
DTSTAMP:20260421T150553
CREATED:20250605T132651Z
LAST-MODIFIED:20250611T152436Z
UID:6356-1764428400-1764435600@tsc-weiss-gold.de
SUMMARY:Freies Tanztraining
DESCRIPTION:Gemeinsames Tanzen aller Gruppen ohne Trainer.
URL:https://tsc-weiss-gold.de/event/freies-tanztraining-67/
LOCATION:Schulsporthalle Realschule Plus\, Neumayerstrasse 27\, Weisenheim am Berg\, 67273
END:VEVENT
BEGIN:VEVENT
DTSTART;TZID=Europe/Berlin:20251128T180000
DTEND;TZID=Europe/Berlin:20251128T214500
DTSTAMP:20260421T150553
CREATED:20250605T131943Z
LAST-MODIFIED:20250605T131943Z
UID:6344-1764352800-1764366300@tsc-weiss-gold.de
SUMMARY:Tanztraining
DESCRIPTION:Große Halle:\nGruppe B: 18:00 – 19:15\nGruppe H: 19:15 – 20:30\nGruppe S: 20:30 – 21:45\nLeitung: Martin Stiewing \nKleine Halle:\nGruppe A: 19:15 – 20:30\nLeitung: Siegfried & Inge Mayer-Hermann
URL:https://tsc-weiss-gold.de/event/tanztraining-194/
LOCATION:Schulsporthalle Realschule Plus\, Neumayerstrasse 27\, Weisenheim am Berg\, 67273
END:VEVENT
BEGIN:VEVENT
DTSTART;TZID=Europe/Berlin:20251121T180000
DTEND;TZID=Europe/Berlin:20251121T214500
DTSTAMP:20260421T150553
CREATED:20250605T131914Z
LAST-MODIFIED:20250605T131914Z
UID:6342-1763748000-1763761500@tsc-weiss-gold.de
SUMMARY:Tanztraining
DESCRIPTION:Große Halle:\nGruppe B: 18:00 – 19:15\nGruppe H: 19:15 – 20:30\nGruppe S: 20:30 – 21:45\nLeitung: Martin Stiewing \nKleine Halle:\nGruppe A: 19:15 – 20:30\nLeitung: Siegfried & Inge Mayer-Hermann
URL:https://tsc-weiss-gold.de/event/tanztraining-193/
LOCATION:Schulsporthalle Realschule Plus\, Neumayerstrasse 27\, Weisenheim am Berg\, 67273
END:VEVENT
BEGIN:VEVENT
DTSTART;TZID=Europe/Berlin:20251115T150000
DTEND;TZID=Europe/Berlin:20251115T170000
DTSTAMP:20260421T150553
CREATED:20250605T134350Z
LAST-MODIFIED:20251114T121502Z
UID:6367-1763218800-1763226000@tsc-weiss-gold.de
SUMMARY:Workshop Jive abgesagt !! Stattdessen freies Training
DESCRIPTION:Das freie Training findet statt für alle TSC-Mitglieder in der großen Schulsporthalle in Weisenheim am Berg von 15:00 – 17:00 Uhr.
URL:https://tsc-weiss-gold.de/event/workshop-jive-mit-sarah/
LOCATION:Schulsporthalle Realschule Plus\, Neumayerstrasse 27\, Weisenheim am Berg\, 67273
END:VEVENT
BEGIN:VEVENT
DTSTART;TZID=Europe/Berlin:20251114T180000
DTEND;TZID=Europe/Berlin:20251114T214500
DTSTAMP:20260421T150553
CREATED:20250605T131843Z
LAST-MODIFIED:20250605T131843Z
UID:6340-1763143200-1763156700@tsc-weiss-gold.de
SUMMARY:Tanztraining
DESCRIPTION:Große Halle:\nGruppe B: 18:00 – 19:15\nGruppe H: 19:15 – 20:30\nGruppe S: 20:30 – 21:45\nLeitung: Martin Stiewing \nKleine Halle:\nGruppe A: 19:15 – 20:30\nLeitung: Siegfried & Inge Mayer-Hermann
URL:https://tsc-weiss-gold.de/event/tanztraining-192/
LOCATION:Schulsporthalle Realschule Plus\, Neumayerstrasse 27\, Weisenheim am Berg\, 67273
END:VEVENT
END:VCALENDAR